BEGIN:VCALENDAR
VERSION:2.0
PRODID:-//ChamberMaster//Event Calendar 2.0//EN
METHOD:PUBLISH
X-PUBLISHED-TTL:P3D
REFRESH-INTERVAL:P3D
CALSCALE:GREGORIAN
BEGIN:VEVENT
DTSTART:20190514T160000Z
DTEND:20190514T214500Z
X-MICROSOFT-CDO-ALLDAYEVENT:FALSE
SUMMARY:Hudson Valley Food & Beverage Innovation Summit
DESCRIPTION:Join us\, Tuesday\, May 14th in the Marriott Pavilion at The Culinary Institute of America to learn what's trending in the food and beverage industry.\n\nThis educational event features influential speakers\, panel discussions\, vendor booths\, tasting and networking opportunities with top Dutchess County food and beverage producers.\n\nFor Additional Information please visit: http://www.hvfbs.org/\n\n$25.00 per ticket in Advance\, $40 per ticket at the Door\n\nBe sure to check back as we announce our speakers for this exciting event!\n\nThis event is presented by: ThinkDutchess\, Dutchess Tourism\, The Culinary Institute of America\, Hudson Valley VegFest\, The Jewish Federation of Dutchess County\n\nThank you to our media sponsor: The Valley Table
X-ALT-DESC;FMTTYPE=text/html:<p>Join us\, Tuesday\, May 14th in the Marriott Pavilion at The Culinary Institute of America to learn what&rsquo\;s trending in the food and beverage industry.</p>\n\n<p>This educational event features influential speakers\, panel discussions\, vendor booths\, tasting and networking opportunities with top Dutchess County food and beverage producers.</p>\n\n<p>For Additional Information please visit:&nbsp\;<a href="http://www.hvfbs.org/" rel="nofollow noopener noreferrer" style="color: purple\; max-height: 1000000px\; box-sizing: inherit\; background-color: transparent\;" target="_blank">http://www.hvfbs.org/</a></p>\n\n<p>$25.00 per ticket in Advance\, $40 per ticket at the Door</p>\n\n<p>Be sure to check back as we announce our speakers for this exciting event!</p>\n\n<p>This event is presented by: ThinkDutchess\, Dutchess Tourism\, The Culinary Institute of America\, Hudson Valley VegFest\, The Jewish Federation of Dutchess County<br />\nThank you to our media sponsor: The Valley Table</p>\n
LOCATION:The Culinary Institute of America\, Marriot Pavilion 1946 Campus Dr\, Hyde Park\, NY 12538
UID:e.2770.10480602
SEQUENCE:3
DTSTAMP:20260423T035035Z
URL:http://dutchesscountyregional.smartcms.site/events/details/hudson-valley-food-beverage-summit-10480602
END:VEVENT

END:VCALENDAR
