BEGIN:VCALENDAR
VERSION:2.0
PRODID:-//ChamberMaster//Event Calendar 2.0//EN
METHOD:PUBLISH
X-PUBLISHED-TTL:P3D
REFRESH-INTERVAL:P3D
CALSCALE:GREGORIAN
BEGIN:VEVENT
DTSTART:20210327T160000Z
DTEND:20210406T035500Z
X-MICROSOFT-CDO-ALLDAYEVENT:FALSE
SUMMARY:Hudson Valley Job Fair at Dutchess Community College - Request for Business Participation
DESCRIPTION:Dutchess County Community College is hosting a VIRTUAL Hudson Valley Job Fair April 12-16. Any business that wishes to participate can submit a ZOOM link. Businesses can participate some or all of that time. There is NO FEE. For more information: email ACT@sunydutchess.edu. Businesses can register by clicking the link below: https://forms.office.com/Pages/ResponsePage.aspx?id=1TtbjxKz3k2d90H6S8HZz5e5EYaTZ3ZGtCvEK8vHbxFUQ1JZRlg0RkU0NUpMRlEwR1IzNlJVNlROTS4u
X-ALT-DESC;FMTTYPE=text/html:Dutchess County Community College is hosting a VIRTUAL Hudson Valley Job Fair April 12-16. Any business that wishes to participate can submit a ZOOM link. Businesses can participate some or all of that time. There is NO FEE. For more information: email ACT@sunydutchess.edu. Businesses can register by clicking the link below: https://forms.office.com/Pages/ResponsePage.aspx?id=1TtbjxKz3k2d90H6S8HZz5e5EYaTZ3ZGtCvEK8vHbxFUQ1JZRlg0RkU0NUpMRlEwR1IzNlJVNlROTS4u
LOCATION:VIRTUAL
UID:e.2770.10485044
SEQUENCE:3
DTSTAMP:20260421T114743Z
URL:http://dutchesscountyregional.smartcms.site/events/details/hudson-valley-job-fair-at-dutchess-community-college-request-for-business-participation-10485044
END:VEVENT

END:VCALENDAR
