BEGIN:VCALENDAR
VERSION:2.0
PRODID:-//ChamberMaster//Event Calendar 2.0//EN
METHOD:PUBLISH
X-PUBLISHED-TTL:P3D
REFRESH-INTERVAL:P3D
CALSCALE:GREGORIAN
BEGIN:VEVENT
DTSTART:20190427T150000Z
DTEND:20190427T200000Z
X-MICROSOFT-CDO-ALLDAYEVENT:FALSE
SUMMARY:Hudson Valley KidVenture 2019
DESCRIPTION:Visit HVKidVenture.org for complete event information and tickets.\n\n\n\nThank you to our sponsors!
X-ALT-DESC;FMTTYPE=text/html:<span style="font-size: 14px\;"><span style="font-family: arial\;">Visit <strong><a href="http://www.HVKidVenture.org" target="_blank"><span style="color: rgb(0\, 0\, 255)\;">HVKidVenture.org</span></a></strong> for complete event information and <strong><a href="https://app.gopassage.com/events/hudson-valley-kidventure-2019" target="_blank"><span style="color: rgb(0\, 0\, 255)\;">tickets</span></a></strong>.</span></span><br />\n<br />\n<strong>Thank you to our sponsors!</strong><br />\n&nbsp\;
LOCATION:Dutchess Community College (Parking Lot D) GPS Address: 91 Cottage Road Poughkeepsie\, NY 12601
UID:e.2770.10479792
SEQUENCE:3
DTSTAMP:20260423T055213Z
URL:http://dutchesscountyregional.smartcms.site/events/details/hudson-valley-kidventure-2019-10479792
END:VEVENT

END:VCALENDAR
