BEGIN:VCALENDAR
VERSION:2.0
PRODID:-//ChamberMaster//Event Calendar 2.0//EN
METHOD:PUBLISH
X-PUBLISHED-TTL:P3D
REFRESH-INTERVAL:P3D
CALSCALE:GREGORIAN
BEGIN:VEVENT
DTSTART:20181206T163000Z
DTEND:20181206T190000Z
X-MICROSOFT-CDO-ALLDAYEVENT:FALSE
SUMMARY:Hudson Valley Magazine's Women in Business Luncheon
DESCRIPTION:Hudson Valley Magazine hosts its 4th annual Women in Business Luncheon to be held in conjunction with the magazine's December issue showcasing leading area businesswomen. This sit-down luncheon features a keynote speaker and recognized the accomplishments of the women profiled in the issue.
X-ALT-DESC;FMTTYPE=text/html:Hudson Valley Magazine hosts its 4th annual Women in Business Luncheon to be held in conjunction with the magazine&rsquo\;s December issue showcasing leading area businesswomen. This sit-down luncheon features a keynote speaker and recognized the accomplishments of the women profiled in the issue.
LOCATION:Villa Borghese - 70 Widmer Road Wappingers Falls\, NY 12590
UID:e.2770.10476854
SEQUENCE:3
DTSTAMP:20260425T142721Z
URL:http://dutchesscountyregional.smartcms.site/events/details/hudson-valley-magazine-s-women-in-business-luncheon-10476854
END:VEVENT

END:VCALENDAR
