BEGIN:VCALENDAR
VERSION:2.0
PRODID:-//ChamberMaster//Event Calendar 2.0//EN
METHOD:PUBLISH
X-PUBLISHED-TTL:P3D
REFRESH-INTERVAL:P3D
CALSCALE:GREGORIAN
BEGIN:VEVENT
DTSTART:20191108T210000Z
DTEND:20191109T010000Z
X-MICROSOFT-CDO-ALLDAYEVENT:FALSE
SUMMARY:Hudson Valley Regional Portfolio Day
DESCRIPTION:Show your portfolio\, learn about college art programs\, and get tips on admissions. 40 colleges in one location! Portfolio Day gives students the opportunity to meet with college representatives from the most prestigious schools in our nation and to have their portfolios reviewed by these same schools. Students should bring 15   20 examples of original\, recent art work. Now in its 19th year\, you can: -Find the college that is best suited for you -Explore one of the many art based careers -Receive advice on your portfolio development -Discuss your work with the major art schools' representatives Join us at the Henry A. Wallace Center at the Franklin D. Roosevelt Presidential Library and Museum on the first Friday of November every year! This event is centrally located in Hyde Park\, New York\, halfway between New York City and Albany overlooking the Hudson River.
X-ALT-DESC;FMTTYPE=text/html:Show your portfolio\, learn about college art programs\, and get tips on admissions. 40 colleges in one location! Portfolio Day gives students the opportunity to meet with college representatives from the most prestigious schools in our nation and to have their portfolios reviewed by these same schools. Students should bring 15 &ndash\; 20 examples of original\, recent art work. Now in its 19th year\, you can: -Find the college that is best suited for you -Explore one of the many art based careers -Receive advice on your portfolio development -Discuss your work with the major art schools&rsquo\; representatives Join us at the Henry A. Wallace Center at the Franklin D. Roosevelt Presidential Library and Museum on the first Friday of November every year! This event is centrally located in Hyde Park\, New York\, halfway between New York City and Albany overlooking the Hudson River.
LOCATION:The Henry A. Wallace Center at the FDR Presidential Library & Museum\, 4079 Albany Post Rd\, Hyde Park\, NY 12538
UID:e.2770.10481476
SEQUENCE:3
DTSTAMP:20260422T160936Z
URL:http://dutchesscountyregional.smartcms.site/events/details/hudson-valley-regional-portfolio-day-10481476
END:VEVENT

END:VCALENDAR
