BEGIN:VCALENDAR
VERSION:2.0
PRODID:-//ChamberMaster//Event Calendar 2.0//EN
METHOD:PUBLISH
X-PUBLISHED-TTL:P3D
REFRESH-INTERVAL:P3D
CALSCALE:GREGORIAN
BEGIN:VEVENT
DTSTART:20190221T220000Z
DTEND:20190222T000000Z
X-MICROSOFT-CDO-ALLDAYEVENT:FALSE
SUMMARY:Hudson Valley Young Professional's CEO Chat with Michael Mullaney
DESCRIPTION:The CEO Chats are an informal and conversational give-and-take between Hudson Valley Young Professionals and key community leaders. These events are free-flowing and allow for ample Q&A.\n\n\n\nHear thoughts on leadership\, management and much more including inspiring personal stories during this CEO Chat.\n\n\n\n\n\nSponsored by: M & T Bank
X-ALT-DESC;FMTTYPE=text/html:<br />\n<span style="text-align: left\; color: rgb(51\, 51\, 51)\; text-transform: none\; text-indent: 0px\; letter-spacing: normal\; font-size: 14px\; font-style: normal\; font-variant: normal\; font-weight: 400\; text-decoration: none\; word-spacing: 0px\; white-space: normal\; orphans: 2\; background-color: transparent\; -webkit-text-stroke-width: 0px\;">The CEO Chats are an informal and conversational give-and-take between Hudson Valley Young Professionals&nbsp\;and key community leaders. These events are free-flowing and allow for ample Q&amp\;A.</span><br style="text-align: left\; color: rgb(51\, 51\, 51)\; text-transform: none\; text-indent: 0px\; letter-spacing: normal\; font-family: Roboto\,sans-serif\; font-size: 14px\; font-style: normal\; font-variant: normal\; font-weight: 400\; text-decoration: none\; word-spacing: 0px\; white-space: normal\; orphans: 2\; background-color: transparent\; -webkit-text-stroke-width: 0px\;" />\n<br style="text-align: left\; color: rgb(51\, 51\, 51)\; text-transform: none\; text-indent: 0px\; letter-spacing: normal\; font-size: 14px\; font-style: normal\; font-variant: normal\; font-weight: 400\; text-decoration: none\; word-spacing: 0px\; white-space: normal\; orphans: 2\; background-color: transparent\; -webkit-text-stroke-width: 0px\;" />\n<span style="text-align: left\; color: rgb(51\, 51\, 51)\; text-transform: none\; text-indent: 0px\; letter-spacing: normal\; font-size: 14px\; font-style: normal\; font-variant: normal\; font-weight: 400\; text-decoration: none\; word-spacing: 0px\; white-space: normal\; orphans: 2\; background-color: transparent\; -webkit-text-stroke-width: 0px\;">Hear&nbsp\;thoughts on leadership\, management and much more including inspiring personal stories during this CEO Chat.</span><br style="text-align: left\; color: rgb(51\, 51\, 51)\; text-transform: none\; text-indent: 0px\; letter-spacing: normal\; font-size: 14px\; font-style: normal\; font-variant: normal\; font-weight: 400\; text-decoration: none\; word-spacing: 0px\; white-space: normal\; orphans: 2\; background-color: transparent\; -webkit-text-stroke-width: 0px\;" />\n<br />\n<br />\n<span style="font-family: Arial\, Helvetica\, &quot\;MS Sans Serif&quot\;\, sans-serif\; font-size: 14px\;"><strong>Sponsored by: <a href="https://www.mtb.com/home-page" target="_blank"><span style="color: rgb(0\, 0\, 255)\;">M &amp\; T Bank</span></a></strong></span>
LOCATION:Courtyard by Marriott 2641 South Road Poughkeepsie\, NY 12601
UID:e.2770.10479910
SEQUENCE:3
DTSTAMP:20260423T083846Z
URL:http://dutchesscountyregional.smartcms.site/events/details/hudson-valley-young-professional-s-ceo-chat-with-michael-mullaney-10479910
END:VEVENT

END:VCALENDAR
