BEGIN:VCALENDAR
VERSION:2.0
PRODID:-//ChamberMaster//Event Calendar 2.0//EN
METHOD:PUBLISH
X-PUBLISHED-TTL:P3D
REFRESH-INTERVAL:P3D
CALSCALE:GREGORIAN
BEGIN:VEVENT
DTSTART:20181206T220000Z
DTEND:20181207T000000Z
X-MICROSOFT-CDO-ALLDAYEVENT:FALSE
SUMMARY:Hudson Valley Young Professionals: Learn to Serve on a Nonprofit Board of Directors
DESCRIPTION:To RSVP\, call (845) 454-1700 Ext. 1000.\n\n\n\nLooking to get involved with a local nonprofit? Wish to become a board member for a nonprofit?\n\nJoin us for this thought-provoking panel discussion\, followed by an opportunity to meet-and-greet local nonprofit organizations. We will shed light on board and committee member needs in our community.  \n\n\n\nModerator: Nevill Smythe\, Smythe Consulting\n\n\n\nPanelists:\n\nKimberly Kochem\, Center for the Prevention of Child Abuse\n\nTina Walz\, M&T Bank\, Hudson Valley Division\n\nFreddimir Garcia\, Marist College\n\nDavid Melby\, Rose & Kiernan\, Inc.\n\n\n\nNonprofit Meet & Greet Participants:\n\n\n	\n		\n	\n	\n		\n			Alzheimer's Association Hudson Valley Chapter\n		\n		\n			American Cancer Society of the Hudson Valley\n		\n		\n			Catholic Charities Community Services Dutchess County\n		\n		\n			City of Poughkeepsie - First Friday\n		\n		\n			Family Services\n		\n		\n			Hudson River Housing\, Inc.\n		\n		\n			Hudson Valley Community Services\, Inc.\n		\n		\n			Hudson Valley House of Hope\n\n			Lucky Orphans Horse Rescue\, Inc.\n\n			Mediation Center of Dutchess County\, Inc.\n		\n		\n			Rebuilding Together\, Dutchess County\n		\n		\n			Ronald McDonald House Greater Hudson Valley\n		\n		\n			Stringendo Orchestra School of the Hudson Valley\n\n			Taconic Resources for Independence\, Inc.\n		\n		\n			The Chamber Foundation\, Inc.\n\n			The Center for the Prevention of Child Abuse\n		\n	\n\n\n\n\nSponsored by: M & T Bank
X-ALT-DESC;FMTTYPE=text/html:<p style="margin: 0px\;"><br />\n<span style="background-color: transparent\; color: rgb(0\, 0\, 0)\; font-family: sans-serif\,Arial\,Verdana\,&amp\;quot\;Trebuchet MS&amp\;quot\;\; font-size: 13px\; font-style: normal\; font-variant: normal\; font-weight: 700\; letter-spacing: normal\; orphans: 2\; text-align: left\; text-decoration: none\; text-indent: 0px\; text-transform: none\; -webkit-text-stroke-width: 0px\; white-space: normal\; word-spacing: 0px\;"><span style="font-family: times new roman\,serif\;"><span style="font-size: 17.33px\;">To RSVP\, call </span></span></span><span style="background-color: transparent\; color: rgb(0\, 0\, 255)\; font-family: sans-serif\,Arial\,Verdana\,&amp\;quot\;Trebuchet MS&amp\;quot\;\; font-size: 13px\; font-style: normal\; font-variant: normal\; font-weight: 700\; letter-spacing: normal\; orphans: 2\; text-align: left\; text-decoration: none\; text-indent: 0px\; text-transform: none\; -webkit-text-stroke-width: 0px\; white-space: normal\; word-spacing: 0px\;"><span style="font-family: times new roman\,serif\;"><span style="font-size: 17.33px\;"><a href="tel:(845) 454-1700" style="color: rgb(7\, 130\, 193)\;">(845) 454-1700</a></span></span></span><span style="background-color: transparent\; color: rgb(0\, 0\, 0)\; font-family: sans-serif\,Arial\,Verdana\,&amp\;quot\;Trebuchet MS&amp\;quot\;\; font-size: 13px\; font-style: normal\; font-variant: normal\; font-weight: 700\; letter-spacing: normal\; orphans: 2\; text-align: left\; text-decoration: none\; text-indent: 0px\; text-transform: none\; -webkit-text-stroke-width: 0px\; white-space: normal\; word-spacing: 0px\;"><span style="font-family: times new roman\,serif\;"><span style="font-size: 17.33px\;"> Ext. 1000.</span></span></span><br />\n<br />\n<span style="margin: 0px\; color: black\; font-size: 13pt\;">Looking to get involved with a local nonprofit? Wish to become a board member for a nonprofit?<br />\nJoin us for this thought-provoking panel discussion\, followed by an opportunity to meet-and-greet local nonprofit organizations. We will shed light on board and committee member needs in our community. &nbsp\;</span><br />\n<br />\n<span style="color: black\;"><span style="font-family: times new roman\,serif\;"><span style="font-size: 13pt\;"><b><em>Moderator</em>:</b>&nbsp\;</span></span></span><span style="background-color: transparent\; color: rgb(0\, 0\, 0)\; font-family: sans-serif\,Arial\,Verdana\,&amp\;quot\;Trebuchet MS&amp\;quot\;\; font-size: 13px\; font-style: normal\; font-variant: normal\; font-weight: 400\; letter-spacing: normal\; orphans: 2\; text-align: left\; text-decoration: none\; text-indent: 0px\; text-transform: none\; -webkit-text-stroke-width: 0px\; white-space: normal\; word-spacing: 0px\;"><span style="font-family: times new roman\,serif\;"><span style="font-size: 17.33px\;"><b>Nevill Smythe</b>\, <span style="font-size: 16px\;">Smythe Consulting</span></span></span></span><br />\n<br />\n<span style="display: inline !important\; float: none\; background-color: transparent\; color: rgb(0\, 0\, 0)\; font-family: times new roman\,serif\; font-size: 17.33px\; font-style: italic\; font-variant: normal\; font-weight: 700\; letter-spacing: normal\; orphans: 2\; text-align: left\; text-decoration: none\; text-indent: 0px\; text-transform: none\; -webkit-text-stroke-width: 0px\; white-space: normal\; word-spacing: 0px\;">Panelists:</span><br />\n<span style="color: black\;"><span style="font-family: times new roman\,serif\;"><span style="font-size: 13pt\;"><strong>Kimberly Kochem</strong>\, <span style="font-size: 16px\;">Center for the Prevention of Child Abuse</span><br />\n<strong>Tina Walz</strong>\, M&amp\;T Bank\, Hudson Valley Division<br />\n<strong>Freddimir Garcia</strong>\, <span style="font-size: 16px\;">Marist College</span></span></span></span><br />\n<span style="display: inline !important\; float: none\; background-color: transparent\; color: rgb(0\, 0\, 0)\; font-family: times new roman\,serif\; font-size: 17.33px\; font-style: normal\; font-variant: normal\; font-weight: 700\; letter-spacing: normal\; orphans: 2\; text-align: left\; text-decoration: none\; text-indent: 0px\; text-transform: none\; -webkit-text-stroke-width: 0px\; white-space: normal\; word-spacing: 0px\;">David Melby\,&nbsp\;</span><span style="display: inline !important\; float: none\; background-color: transparent\; color: rgb(0\, 0\, 0)\; font-family: times new roman\,serif\; font-size: 16px\; font-style: normal\; font-variant: normal\; font-weight: 400\; letter-spacing: normal\; orphans: 2\; text-align: left\; text-decoration: none\; text-indent: 0px\; text-transform: none\; -webkit-text-stroke-width: 0px\; white-space: normal\; word-spacing: 0px\;">Rose &amp\; Kiernan\, Inc.<br />\n<br />\n<b>Nonprofit Meet &amp\; Greet</b>&nbsp\;</span><span style="display: inline !important\; float: none\; background-color: transparent\; color: rgb(0\, 0\, 0)\; font-family: times new roman\,serif\; font-size: 16px\; font-style: normal\; font-variant: normal\; font-weight: 700\; letter-spacing: normal\; orphans: 2\; text-align: left\; text-decoration: none\; text-indent: 0px\; text-transform: none\; -webkit-text-stroke-width: 0px\; white-space: normal\; word-spacing: 0px\;">Participants:</span></p>\n\n<table border="0" cellpadding="0" cellspacing="0" style="border-collapse:&#10\;width:360px\;" width="360">\n	<colgroup>\n		<col style="width:360px\;" />\n	</colgroup>\n	<tbody>\n		<tr height="20" style="height:20px\;">\n			<td height="20" style="border:0px rgb(0\, 0\, 0)\;width:360px\;height:20px\;"><span style="font-size:medium\;"><span style="font-family:times new roman\;">Alzheimer&#39\;s Association Hudson Valley Chapter</span></span></td>\n		</tr>\n		<tr height="20" style="height:20px\;">\n			<td height="20" style="border:0px rgb(0\, 0\, 0)\;height:20px\;"><span style="font-size:medium\;"><span style="font-family:times new roman\;">American Cancer Society of the Hudson Valley</span></span></td>\n		</tr>\n		<tr height="20" style="height:20px\;">\n			<td height="20" style="border:0px rgb(0\, 0\, 0)\;height:20px\;"><span style="font-size:medium\;"><span style="font-family:times new roman\;">Catholic Charities Community Services Dutchess County</span></span></td>\n		</tr>\n		<tr height="20" style="height:20px\;">\n			<td height="20" style="border:0px rgb(0\, 0\, 0)\;height:20px\;"><span style="font-size:medium\;"><span style="font-family:times new roman\;">City of Poughkeepsie - First Friday</span></span></td>\n		</tr>\n		<tr height="20" style="height:20px\;">\n			<td height="20" style="border:0px rgb(0\, 0\, 0)\;height:20px\;"><span style="font-size:medium\;"><span style="font-family:times new roman\;">Family Services</span></span></td>\n		</tr>\n		<tr height="20" style="height:20px\;">\n			<td height="20" style="border:0px rgb(0\, 0\, 0)\;height:20px\;"><span style="font-size:medium\;"><span style="font-family:times new roman\;">Hudson River Housing\, Inc.</span></span></td>\n		</tr>\n		<tr height="20" style="height:20px\;">\n			<td height="20" style="border:0px rgb(0\, 0\, 0)\;height:20px\;"><span style="font-size:medium\;"><span style="font-family:times new roman\;">Hudson Valley Community Services\, Inc.</span></span></td>\n		</tr>\n		<tr height="20" style="height:20px\;">\n			<td height="20" style="border:0px rgb(0\, 0\, 0)\;height:20px\;"><span style="font-size:medium\;"><span style="font-family:times new roman\;">Hudson Valley House of Hope<br />\n			Lucky Orphans Horse Rescue\, Inc.</span></span><br />\n			<span style="font-size:medium\;"><span style="font-family:times new roman\;">Mediation Center of Dutchess County\, Inc.</span></span></td>\n		</tr>\n		<tr height="20" style="height:20px\;">\n			<td height="20" style="border:0px rgb(0\, 0\, 0)\;height:20px\;"><span style="font-size:medium\;"><span style="font-family:times new roman\;">Rebuilding Together\, Dutchess County</span></span></td>\n		</tr>\n		<tr height="20" style="height:20px\;">\n			<td height="20" style="border:0px rgb(0\, 0\, 0)\;height:20px\;"><span style="font-size:medium\;"><span style="font-family:times new roman\;">Ronald McDonald House Greater Hudson Valley</span></span></td>\n		</tr>\n		<tr height="20" style="height:20px\;">\n			<td height="20" style="border:0px rgb(0\, 0\, 0)\;height:20px\;"><span style="font-size:medium\;"><span style="font-family:times new roman\;">Stringendo Orchestra School of the Hudson Valley<br />\n			Taconic Resources for Independence\, Inc.</span></span></td>\n		</tr>\n		<tr height="20" style="height:20px\;">\n			<td height="20" style="border:0px rgb(0\, 0\, 0)\;height:20px\;"><span style="font-size:medium\;"><span style="font-family:times new roman\;">The Chamber Foundation\, Inc.<br />\n			The Center for the Prevention of Child Abuse</span></span></td>\n		</tr>\n	</tbody>\n</table>\n\n<p style="margin: 0px\;"><br />\n<strong><span style="background: white\;"><span style="color: black\;"><span style="font-family: times new roman\,serif\;"><span style="font-size: 13pt\;">Sponsored by:&nbsp\;</span></span></span></span></strong><strong><span style="color: rgb(51\, 51\, 51)\;"><span style="font-family: times new roman\,serif\;"><span style="font-size: 13pt\;"><a href="https://www.mtb.com/home-page" target="_blank"><span style="background: white\;"><span style="color: blue\;">M &amp\; T Bank</span></span></a></span></span></span></strong></p>\n
LOCATION:All Sport Health & Fitness 17 Old Main Street Fishkill NY
UID:e.2770.10479766
SEQUENCE:3
DTSTAMP:20260425T142701Z
URL:http://dutchesscountyregional.smartcms.site/events/details/hudson-valley-young-professionals-learn-to-serve-on-a-nonprofit-board-of-directors-10479766
END:VEVENT

END:VCALENDAR
