BEGIN:VCALENDAR
VERSION:2.0
PRODID:-//ChamberMaster//Event Calendar 2.0//EN
METHOD:PUBLISH
X-PUBLISHED-TTL:P3D
REFRESH-INTERVAL:P3D
CALSCALE:GREGORIAN
BEGIN:VEVENT
DTSTART:20190413T130000Z
DTEND:20190413T160000Z
X-MICROSOFT-CDO-ALLDAYEVENT:FALSE
SUMMARY:Hudson Valley Young Professionals National Volunteer Week Project
DESCRIPTION:COMMUNITY MATTERS\n\n\n\nJoin us for the Hudson Valley Young Professional's day of community outreach to spruce up the Hudson Valley. Rain or shine. Materials will be provided.\n\n\n\nVolunteers are needed for this Spring clean-up of Poughkeepsie's 5th Ward and North Side neighborhoods.
X-ALT-DESC;FMTTYPE=text/html:<p><span style="font-size: 16px\;"><span style="font-family: times new roman\;"><span style="background: white\;"><span style="color: rgb(0\, 0\, 255)\;"><em><strong>COMMUNITY MATTERS</strong></em></span><br />\n<br />\n<span style="color: rgb(51\, 51\, 51)\;">Join us for the Hudson Valley Young Professional&#39\;s day of community outreach to spruce up the Hudson Valley. Rain or shine. Materials will be provided.<br />\n<br />\n<strong>Volunteers are needed for this Spring clean-up of Poughkeepsie&#39\;s 5th Ward and North Side neighborhoods. </strong></span></span></span></span></p>\n
LOCATION:Volunteers will meet at: Pershing Avenue: Basketball Courts 51 Pershing Avenue Poughkeepsie NY
UID:e.2770.10480543
SEQUENCE:3
DTSTAMP:20260423T055350Z
URL:http://dutchesscountyregional.smartcms.site/events/details/hudson-valley-young-professionals-national-volunteer-week-project-10480543
END:VEVENT

END:VCALENDAR
