BEGIN:VCALENDAR
VERSION:2.0
PRODID:-//ChamberMaster//Event Calendar 2.0//EN
METHOD:PUBLISH
X-PUBLISHED-TTL:P3D
REFRESH-INTERVAL:P3D
CALSCALE:GREGORIAN
BEGIN:VEVENT
DTSTART:20190418T210000Z
DTEND:20190418T230000Z
X-MICROSOFT-CDO-ALLDAYEVENT:FALSE
SUMMARY:Hudson Valley Young Professionals Unwind Networking
DESCRIPTION:Networking event presented by the Hudson Valley Young Professionals.\n\n\n\nSponsored by: Mid-Hudson Valley Federal Credit Union
X-ALT-DESC;FMTTYPE=text/html:<span style="font-size: 14px\;"><span style="letter-spacing: -0.2px\;">Networking event presented by the Hud</span></span><span style="font-size: 12px\;"><span style="font-size: 14px\;">son Valley Young Professionals.</span></span><br />\n<br />\n<span style="font-family: Arial\, Helvetica\, &quot\;MS Sans Serif&quot\;\, sans-serif\; font-size: 14px\;"><strong>Sponsored by: <a href="http://www.mhvfcu.com"><span style="color: rgb(0\, 0\, 255)\;">Mid-Hudson Valley Federal Credit Union</span></a></strong></span>
LOCATION:Beekman Arms Delamater Inn 6387 Mill Street Rhinebeck
UID:e.2770.10479873
SEQUENCE:3
DTSTAMP:20260423T054435Z
URL:http://dutchesscountyregional.smartcms.site/events/details/hudson-valley-young-professionals-unwind-networking-04-18-2019-10479873
END:VEVENT

END:VCALENDAR
