BEGIN:VCALENDAR
VERSION:2.0
PRODID:-//ChamberMaster//Event Calendar 2.0//EN
METHOD:PUBLISH
X-PUBLISHED-TTL:P3D
REFRESH-INTERVAL:P3D
CALSCALE:GREGORIAN
BEGIN:VEVENT
DTSTART:20201119T170000Z
DTEND:20201119T183000Z
X-MICROSOFT-CDO-ALLDAYEVENT:FALSE
SUMMARY:Hudson Valley Young Professionals - Virtual CEO Chat
DESCRIPTION:The CEO Chats are an informal and conversational give-and-take between Hudson Valley Young Professionals and key community leaders. These events are free-flowing and allow for ample Q&A. \n\n\n\nZoom with us\, and learn what it takes to become an effective communicator\, nonprofit executive and leader in the community.\n\nHear thoughts on leadership\, management and much more including inspiring personal stories during this CEO Chat.\n\n\n\nMelaine Rottkamp\, CDME\n\nPresident & CEO\, Dutchess Tourism\, Inc.\n\nMelaine is a certified destination management executive who has worked passionately since 2011 to support and highlight the 1\,000 tourism-dependent businesses and organizations in Dutchess County. She has spent the last four years as vice president\, focused on managing Dutchess Tourism's advertising and marketing efforts and aggressively promoting the county as a premiere vacation destination to travelers across the globe. In addition\, she ran DTI's business support and outreach programs including educational seminars\, conferences\, networking\, and recognition events. Upon Mary Kay Vrba's retirement\, July 20\, 2020\, Melaine became the non-profit's president & CEO. \n\n\n\nSponsored by: M&T Bank\n\n\n\nReserve your spot today!\n\nTo Register\, please click here
X-ALT-DESC;FMTTYPE=text/html:<br />\n<span style="color:#000000\;"><span style="font-size:16px\;"><span style="font-family:times new roman\;"><span style="font-variant-numeric: normal\; font-variant-east-asian: normal\; background-color: transparent\;">The CEO Chats are an informal and conversational give-and-take between Hudson Valley Young Professionals&nbsp\;and key community leaders. These events are free-flowing and allow for ample Q&amp\;A.&nbsp\;</span><br />\n<br />\nZoom with us\, and learn what it takes to become an effective communicator\, nonprofit executive and leader in the community.<br />\nHear&nbsp\;thoughts on leadership\, management and much more including inspiring personal stories during this CEO Chat.</span></span><br />\n<br />\n<span style="font-size:16px\;"><span style="font-family:times new roman\;"><strong><span style="font-variant:small-caps\;">Melaine Rottkamp\, CDME</span></strong><br />\n<span style="font-size:14px\;"><strong>President &amp\; CEO\, Dutchess Tourism\, Inc.</strong></span><br />\nMelaine is a certified destination management executive who has worked passionately since 2011 to support and highlight the 1\,000 tourism-dependent businesses and organizations in Dutchess County. She has spent the last four years as vice president\, focused on managing Dutchess Tourism&rsquo\;s advertising and marketing efforts and aggressively promoting the county as a premiere vacation destination to travelers across the globe. In addition\, she ran DTI&rsquo\;s business support and outreach programs including educational seminars\, conferences\, networking\, and recognition events. Upon Mary Kay Vrba&rsquo\;s retirement\, July 20\, 2020\, Melaine became the non-profit&rsquo\;s president &amp\; CEO. </span></span></span><br />\n<br />\n<em style="color: rgb(0\, 0\, 0)\; font-family: &quot\;times new roman&quot\;\; font-size: 18px\;"><strong><span style="color:#000000\;">Sponsored by:</span> <a href="https://www3.mtb.com/personal?ch=psb&amp\;cid=psb|2020brand|79714722186585|bing|1275434101673198|kwd-79714992178846:loc-71249&amp\;matchtype=e&amp\;adid=79714722186585&amp\;addisttype=s&amp\;source=SEMBing&amp\;kxconfid=ug485menz&amp\;campaign=291815546&amp\;campaignid=psb&amp\;siteid=bing&amp\;msclkid=904170882f841cdd1a832f103766c556" target="_blank"><span style="color:#0000FF\;">M&amp\;T Bank</span></a></strong></em><br />\n<br />\n<span style="font-size:18px\;"><span style="font-family:times new roman\;"><span style="color:#000000\;"><strong>Reserve your spot today!</strong></span><br />\n<strong><span style="color:#000000\;">To Register\, please click</span><span style="color: rgb(35\, 35\, 51)\;"><strong> </strong></span><a href="https://dcrcoc-org.zoom.us/meeting/register/tZMvcu6hrTkiGdA9ebkZOXBd9y_sGAzSEwbA" target="_blank"><span style="color:#0000FF\;">here</span></a></strong></span></span><br style="font-family: Roboto\, sans-serif\; font-size: 14px\; font-variant-numeric: normal\; font-variant-east-asian: normal\; background-color: transparent\;" />\n&nbsp\;
LOCATION:
UID:e.2770.10484457
SEQUENCE:3
DTSTAMP:20260421T193237Z
URL:http://dutchesscountyregional.smartcms.site/events/details/hudson-valley-young-professionals-virtual-ceo-chat-10484457
END:VEVENT

END:VCALENDAR
