BEGIN:VCALENDAR
VERSION:2.0
PRODID:-//ChamberMaster//Event Calendar 2.0//EN
METHOD:PUBLISH
X-PUBLISHED-TTL:P3D
REFRESH-INTERVAL:P3D
CALSCALE:GREGORIAN
BEGIN:VEVENT
DTSTART:20201022T160000Z
DTEND:20201022T170000Z
X-MICROSOFT-CDO-ALLDAYEVENT:FALSE
SUMMARY:Hudson Valley Young Professionals - Virtual Unwind Networking Event
DESCRIPTION:Come join us for a Hudson Valley Young Professional virtual unwind networking event. Network with the next generation of business leaders\, use this event to grow your network\, find a new client\, or make a new friend.\n\n\n\nTo Register\, Please Click Here\n\n\n\nSponsored By: Chase Bank and Royal Carting Service Company
X-ALT-DESC;FMTTYPE=text/html:<span style="color:#000000\;"><span style="font-family: tahoma\; font-size: 16px\;">Come join us for a Hudson Valley Young Professional virtual unwind networking event. Network with the next generation of business leaders\, use this event to grow your network\, find a new client\, or make a new friend.<br />\n<br />\nTo Register\, Please Click </span></span><span style="font-family: tahoma\; font-size: 16px\;"><strong><a href="https://dcrcoc-org.zoom.us/meeting/register/tZYqdeutrDgqHd1bjhNZ8sSTu6r1T_pV1Of7" target="_blank"><span style="color:#0000FF\;">Here</span></a></strong></span><br />\n<br />\n<span style="color:#000000\;"><span style="font-family: tahoma\; font-size: 16px\;"><strong>Sponsored By:&nbsp\;</strong></span></span><strong><span style="font-size:16px\;"><span style="font-family:tahoma\;"><a href="https://www.jpmorgan.com/commercial-banking" target="_blank"><span style="color:#0000FF\;">Chase Bank</span></a> and <a href="https://www.royalcarting.us/royal-home" target="_blank"><span style="color:#0000FF\;">Royal Carting Service Company</span></a></span></span></strong><br />\n<br />\n&nbsp\;
LOCATION:Zoom
UID:e.2770.10484456
SEQUENCE:3
DTSTAMP:20260421T211559Z
URL:http://dutchesscountyregional.smartcms.site/events/details/hudson-valley-young-professionals-virtual-unwind-networking-event-10484456
END:VEVENT

END:VCALENDAR
