BEGIN:VCALENDAR
VERSION:2.0
PRODID:-//ChamberMaster//Event Calendar 2.0//EN
METHOD:PUBLISH
X-PUBLISHED-TTL:P3D
REFRESH-INTERVAL:P3D
CALSCALE:GREGORIAN
BEGIN:VEVENT
DTSTART:20210224T170000Z
DTEND:20210224T180000Z
X-MICROSOFT-CDO-ALLDAYEVENT:FALSE
SUMMARY:Hudson Valley Young Professionals - Virtual Unwind Networking Event
DESCRIPTION:Come join us for a Hudson Valley Young Professional unwind networking event. Network with the next generation of business leaders. Use this event to grow your network\, find a new client\, or make a new friend.\n\n\n\nTo Register\, Please Click Here\n\n\n\nThank you to our sponsor: State Farm Insurance - Jennifer Pawenski
X-ALT-DESC;FMTTYPE=text/html:<br />\n<span style="font-size:16px\;"><span style="font-family:times new roman\;"><span style="font-size:18px\;"><span style="color:#000000\;">Come join us for a Hudson Valley Young Professional unwind networking event. Network with the next generation of business leaders. Use this event to grow your network\, find a new client\, or make a new friend.<br />\n<br />\nTo Register\, Please Click</span><span style="color:#000000\;"> </span><strong><a href="https://dcrcoc-org.zoom.us/meeting/register/tZ0odO-oqjgsHNRhCPfFd6luqMkegVXup1hw" target="_blank"><span style="color:#0000FF\;">Here</span></a></strong><br />\n<br />\n<strong><span style="color:#000000\;">Thank you to our sponsor:&nbsp\;</span></strong></span></span></span><a href="http://www.SFagentJP.com" target="_blank"><span style="color:#0000FF\;"><strong><span style="font-family: calibri\, sans-serif\; font-size: 14.6667px\;"><span style="font-size:18px\;"><span style="font-family:times new roman\;">State Farm Insurance - Jennifer Pawenski</span></span>&nbsp\;</span></strong></span></a><br />\n&nbsp\;
LOCATION:
UID:e.2770.10484901
SEQUENCE:3
DTSTAMP:20260421T145139Z
URL:http://dutchesscountyregional.smartcms.site/events/details/hudson-valley-young-professionals-virtual-unwind-networking-event-10484901
END:VEVENT

END:VCALENDAR
