BEGIN:VCALENDAR
VERSION:2.0
PRODID:-//ChamberMaster//Event Calendar 2.0//EN
METHOD:PUBLISH
X-PUBLISHED-TTL:P3D
REFRESH-INTERVAL:P3D
CALSCALE:GREGORIAN
BEGIN:VEVENT
DTSTART:20201203T170000Z
DTEND:20201203T180000Z
X-MICROSOFT-CDO-ALLDAYEVENT:FALSE
SUMMARY:Hudson Valley Young Professionals - Virtual Unwind Networking Event
DESCRIPTION:Come join us for a Hudson Valley Young Professional unwind networking event. Network with the next generation of business leaders. Use this event to grow your network\, find a new client\, or make a new friend.\n\n\n\nTo Register\, Please Click Here\n\n\n\nSponsored by: Royal Carting Service Company
X-ALT-DESC;FMTTYPE=text/html:<br />\n<span style="color:#000000\;"><span style="font-family: tahoma\; font-size: 16px\;">Come join us for a Hudson Valley Young Professional unwind networking event. Network with the next generation of business leaders. Use this event to grow your network\, find a new client\, or make a new friend.</span></span><br />\n<br />\n<span style="color:#000000\;"><span style="font-family: tahoma\; font-size: 16px\;">To Register\, Please Click&nbsp\;</span></span><span style="font-family: tahoma\; font-size: 16px\;"><strong><a href="https://dcrcoc-org.zoom.us/meeting/register/tZMvduyurTgtE9eH65bD68so7ABkASGpsBYf" target="_blank"><span style="color:#0000FF\;">Here</span></a><br />\n<br />\n<span style="color:#000000\;">Sponsored by: </span><a href="http://Royal Carting Service Company" target="_blank"><span style="color:#0000FF\;">Royal Carting Service Company</span></a></strong></span><br />\n&nbsp\;
LOCATION:
UID:e.2770.10484458
SEQUENCE:3
DTSTAMP:20260421T180016Z
URL:http://dutchesscountyregional.smartcms.site/events/details/hudson-valley-young-professionals-virtual-unwind-networking-event-12-03-2020-10484458
END:VEVENT

END:VCALENDAR
