BEGIN:VCALENDAR
VERSION:2.0
PRODID:-//ChamberMaster//Event Calendar 2.0//EN
METHOD:PUBLISH
X-PUBLISHED-TTL:P3D
REFRESH-INTERVAL:P3D
CALSCALE:GREGORIAN
BEGIN:VEVENT
DTSTART:20181115T223000Z
DTEND:20181116T023000Z
X-MICROSOFT-CDO-ALLDAYEVENT:FALSE
SUMMARY:HV Hospice: Floral Magic
DESCRIPTION:Be a part of this annual tradition that kicks off the holiday season. Floral Magic showcases the Hudson Valley's incredibly talented and generous floral designers\, who build exquisite creations for auction. Fabulous fun food\, vendors\, raffles and more will round out this magical evening!
X-ALT-DESC;FMTTYPE=text/html:Be a part of this annual tradition that kicks off the holiday season. Floral Magic showcases the Hudson Valley&#39\;s incredibly talented and generous floral designers\, who build exquisite creations for auction. Fabulous fun food\, vendors\, raffles and more will round out this magical evening!
LOCATION:The Environmental Cooperative at the Vassar Barns\, 50 Vassar Farm Lane\, Poughkeepsie\, NY 12603
UID:e.2770.10479451
SEQUENCE:3
DTSTAMP:20260425T160340Z
URL:http://dutchesscountyregional.smartcms.site/events/details/hv-hospice-floral-magic-10479451
END:VEVENT

END:VCALENDAR
