BEGIN:VCALENDAR
VERSION:2.0
PRODID:-//ChamberMaster//Event Calendar 2.0//EN
METHOD:PUBLISH
X-PUBLISHED-TTL:P3D
REFRESH-INTERVAL:P3D
CALSCALE:GREGORIAN
BEGIN:VEVENT
DTSTART:20191121T220000Z
DTEND:20191122T000000Z
X-MICROSOFT-CDO-ALLDAYEVENT:FALSE
SUMMARY:HV Young Professional Business of Spirits\, Wine & Ciders
DESCRIPTION:Join us for this thought-provoking panel discussion\, followed by an opportunity to meet-and-greet with the panelists over a tasting. We will shed light on what it takes to start a business and how to get involve in the spirits\, wine\, and cider scene in the Hudson Valley.\n\n\n\nFeatured Panelists Include:\n\n \n\n         Hudson Valley Distillers   Founder\, Chris Moyer\n\n         1857 Spirits   Head Distiller\, Elias Barber\n\n         1915 Wine Cellar   Owner\, Russell Beck\n\n         Milea Estate Vineyard   Cider Maker\, Edward Evans\n\n\n\n\n\nSponsored by: M&T Bank
X-ALT-DESC;FMTTYPE=text/html:<span style="font-family:times new roman\;"><span style="caret-color: rgb(0\, 0\, 0)\; color: rgb(0\, 0\, 0)\; font-size: 17.3333px\; text-size-adjust: auto\;">Join us for this thought-provoking panel discussion\, followed by an opportunity to meet-and-greet with the panelists over a tasting. We will shed light on what it takes to start a business and how to get involve in the spirits\, wine\, and cider scene in the Hudson Valley.</span><br />\n<br />\n<span style="font-size:13pt\;">Featured Panelists Include:</span><br />\n&nbsp\;<br />\n<span style="font-size:13pt\;">&middot\;&nbsp\;&nbsp\;&nbsp\;&nbsp\;&nbsp\;&nbsp\;&nbsp\; Hudson Valley Distillers &ndash\; Founder\, Chris Moyer</span><br />\n<span style="font-size:13pt\;">&middot\;&nbsp\;&nbsp\;&nbsp\;&nbsp\;&nbsp\;&nbsp\;&nbsp\; 1857 Spirits &ndash\; Head Distiller\, Elias Barber</span><br />\n<span style="font-size:13pt\;">&middot\;&nbsp\;&nbsp\;&nbsp\;&nbsp\;&nbsp\;&nbsp\;&nbsp\; 1915 Wine Cellar &ndash\; Owner\, Russell Beck</span><br />\n<span style="font-size:13pt\;">&middot\;&nbsp\;&nbsp\;&nbsp\;&nbsp\;&nbsp\;&nbsp\;&nbsp\; Milea Estate Vineyard &ndash\; Cider Maker\, Edward Evans</span></span><br />\n<br />\n<br />\n<span style="font-size:18px\;"><span style="font-family:times new roman\;"><strong>Sponsored by:<span style="color: rgb(0\, 0\, 255)\;"> </span><a href="http://www.meyercontracting.com"><span style="color: rgb(0\, 0\, 255)\;">M&amp\;T</span></a><a href="https://www.mtb.com" target="_blank"><span style="color: rgb(0\, 0\, 255)\;"> Bank</span></a></strong></span></span>
LOCATION:iPark 84 2070 Route 52 -Building 710- Hopewell Junction\, NY 12533
UID:e.2770.10479903
SEQUENCE:3
DTSTAMP:20260422T155152Z
URL:http://dutchesscountyregional.smartcms.site/events/details/hv-young-professional-business-of-spirits-wine-ciders-10479903
END:VEVENT

END:VCALENDAR
