BEGIN:VCALENDAR
VERSION:2.0
PRODID:-//ChamberMaster//Event Calendar 2.0//EN
METHOD:PUBLISH
X-PUBLISHED-TTL:P3D
REFRESH-INTERVAL:P3D
CALSCALE:GREGORIAN
BEGIN:VEVENT
DTSTART:20201015T161500Z
DTEND:20201015T171500Z
X-MICROSOFT-CDO-ALLDAYEVENT:FALSE
SUMMARY:HVCU's Women in Business: Lift While You Climb
DESCRIPTION:Who's got your back? Carefully constructing a group of motivating\, honest\, and successful counselors is vital to your career. As you continue climbing the corporate ladder\, professional networking\, mentoring\, and personal support can facilitate your success. In this webinar\, Ann Byne\, Partner\, GMLV\, and Tina Ludwig\, AVP of Insurance Services\, HVCU\, will share skills and traits you should look for when building your tribe.
X-ALT-DESC;FMTTYPE=text/html:Who&#39\;s got your back? Carefully constructing a group of motivating\, honest\, and successful counselors is vital to your career. As you continue climbing the corporate ladder\, professional networking\, mentoring\, and personal support can facilitate your success. In this webinar\, Ann Byne\, Partner\, GMLV\, and Tina Ludwig\, AVP of Insurance Services\, HVCU\, will share skills and traits you should look for when building your tribe.
LOCATION:Zoom
UID:e.2770.10484483
SEQUENCE:3
DTSTAMP:20260421T211921Z
URL:http://dutchesscountyregional.smartcms.site/events/details/hvcu-s-women-in-business-lift-while-you-climb-10484483
END:VEVENT

END:VCALENDAR
