BEGIN:VCALENDAR
VERSION:2.0
PRODID:-//ChamberMaster//Event Calendar 2.0//EN
METHOD:PUBLISH
X-PUBLISHED-TTL:P3D
REFRESH-INTERVAL:P3D
CALSCALE:GREGORIAN
BEGIN:VEVENT
DTSTART:20201013T161500Z
DTEND:20201013T171500Z
X-MICROSOFT-CDO-ALLDAYEVENT:FALSE
SUMMARY:HVCU's Women in Business: Staying Creative Through Covid
DESCRIPTION:The economic and social landscape of this year has been difficult to navigate\, and planning for next year seems next to impossible. Madeline Henriquez and Jen Herman (Earth\, Wind and Fuego) along with Barb Fisher (Barb's Butchery) will share their experiences over the last few months and the strategies they plan to implement in 2021.
X-ALT-DESC;FMTTYPE=text/html:The economic and social landscape of this year has been difficult to navigate\, and planning for next year seems next to impossible. Madeline Henriquez and Jen Herman (Earth\, Wind and Fuego) along with Barb Fisher (Barb&rsquo\;s Butchery) will share their experiences over the last few months and the strategies they plan to implement in 2021.
LOCATION:Zoom
UID:e.2770.10484482
SEQUENCE:3
DTSTAMP:20260421T211833Z
URL:http://dutchesscountyregional.smartcms.site/events/details/hvcu-s-women-in-business-staying-creative-through-covid-10484482
END:VEVENT

END:VCALENDAR
