BEGIN:VCALENDAR
VERSION:2.0
PRODID:-//ChamberMaster//Event Calendar 2.0//EN
METHOD:PUBLISH
X-PUBLISHED-TTL:P3D
REFRESH-INTERVAL:P3D
CALSCALE:GREGORIAN
BEGIN:VEVENT
DTSTART:20191019T130000Z
DTEND:20191020T030000Z
X-MICROSOFT-CDO-ALLDAYEVENT:FALSE
SUMMARY:HVYP: Make a Difference Day
DESCRIPTION:Join the Hudson Valley Young Professionals to pick apples\, benefiting food pantries throughout the Hudson Valley!
X-ALT-DESC;FMTTYPE=text/html:<p style="margin: 0px 0px 14px\; padding: 0px\; font-size: 1.2em\; color: rgb(34\, 34\, 34)\; font-family: Verdana\, Geneva\, sans-serif\;"><span style="font-size:14px\;"><span style="font-family:arial\;">Join the Hudson Valley Young Professionals to pick apples\, benefiting food pantries throughout the Hudson Valley!</span></span></p>\n
LOCATION:Hudson Valley Research Lab Orchards 3356 US Highway Route 9W (Southbound side of 9W) Highland\, NY
UID:e.2770.10482501
SEQUENCE:3
DTSTAMP:20260422T172553Z
URL:http://dutchesscountyregional.smartcms.site/events/details/hvyp-make-a-difference-day-10-19-2019-10482501
END:VEVENT

END:VCALENDAR
