BEGIN:VCALENDAR
VERSION:2.0
PRODID:-//ChamberMaster//Event Calendar 2.0//EN
METHOD:PUBLISH
X-PUBLISHED-TTL:P3D
REFRESH-INTERVAL:P3D
CALSCALE:GREGORIAN
BEGIN:VEVENT
DTSTART:20200310T210000Z
DTEND:20200310T230000Z
X-MICROSOFT-CDO-ALLDAYEVENT:FALSE
SUMMARY:HVYP Panel: Building Wealth Through Real Estate
DESCRIPTION:Thinking about buying your first home? Have you thought about a two-family house - where you can live and produce income? Join us for a panel discussion on Building Wealth Through Real Estate\, and learn everything it takes to make it happen. Hear from real estate professionals in the fields of sales\, lending\, legal and insurance about the ins and outs of the deal from search to close and beyond.  \n\nParticipants in the panel include:\n\n\n	Insurance: Justin Hedden\, Marshall and Sterling Insurance\n	Law: Ilanna Gibson\, Cuddy and Feder\n	Finances: Kathy Queenan\, M&T Bank\n	Real Estate Agent: Don Minichino\, Houlihan Lawrence\n\n\n \n\nThe discussion will be moderated by Jenna Liguori\, co-chair of the Hudson Valley Young Professionals Education and Professional Development Committee.\nSponsored by: M & T Bank
X-ALT-DESC;FMTTYPE=text/html:<p style="background:white"><span style="font-family:tahoma\;"><span style="font-size:16px\;"><span style="background: white\; margin: 0px\; color: black\;">Thinking about buying your first home? Have you thought about a two-family house - where you can live and produce income? Join us for a panel discussion on Building Wealth Through Real Estate\, and learn everything it takes to make it happen. Hear from real estate professionals in the fields of sales\, lending\, legal and insurance about the ins and outs of the deal from search to close and beyond.&nbsp\;&nbsp\;</span></span></span></p>\n\n<p style="background:white"><span style="font-family:tahoma\;"><span style="font-size:16px\;"><strong>Participants in the panel include</strong>:</span></span></p>\n\n<ul>\n	<li><span style="font-family:tahoma\;"><span style="font-size:16px\;">Insurance: Justin Hedden\, Marshall and Sterling Insurance</span></span></li>\n	<li><span style="font-family:tahoma\;"><span style="font-size:16px\;">Law: Ilanna Gibson\, Cuddy and Feder</span></span></li>\n	<li><span style="font-family:tahoma\;"><span style="font-size:16px\;">Finances: Kathy Queenan\, M&amp\;T Bank</span></span></li>\n	<li><span style="font-family:tahoma\;"><span style="font-size:16px\;">Real Estate Agent: Don Minichino\, Houlihan Lawrence</span></span></li>\n</ul>\n\n<p style="background:white"><span style="font-family:tahoma\;"><span style="font-size:16px\;">&nbsp\;<br />\nThe discussion will be moderated by Jenna Liguori\, co-chair of the Hudson Valley Young Professionals Education and Professional Development Committee.</span></span></p>\n<span style="font-family:tahoma\;"><span style="font-size:16px\;">Sponsored by: <strong><a href="http://www.mtb.com"><span style="color:#0000FF\;">M &amp\; T Bank</span></a></strong></span></span>
LOCATION:Hyatt Place Hotel 2165 South Road Poughkeepsie
UID:e.2770.10482572
SEQUENCE:3
DTSTAMP:20260422T090610Z
URL:http://dutchesscountyregional.smartcms.site/events/details/hvyp-panel-building-wealth-through-real-estate-10482572
END:VEVENT

END:VCALENDAR
