BEGIN:VCALENDAR
VERSION:2.0
PRODID:-//ChamberMaster//Event Calendar 2.0//EN
METHOD:PUBLISH
X-PUBLISHED-TTL:P3D
REFRESH-INTERVAL:P3D
CALSCALE:GREGORIAN
BEGIN:VEVENT
DTSTART:20200618T160000Z
DTEND:20200618T170000Z
X-MICROSOFT-CDO-ALLDAYEVENT:FALSE
SUMMARY:HVYP: Virtual CEO Chat
DESCRIPTION:Brian Doyle is an accomplished human services executive whose expertise\, vision and passion for serving individuals and families in need has enabled Family Services to grow\, and play an even more vital role in our community. He previously served as the Associate Executive Director at Ulster-Greene ARC\, and as Special Assistant to the Executive Director at ARC in Westchester\, and is active in numerous community organizations and committees\, including City of Poughkeepsie Common Council\, Poughkeepsie Alliance\, Community and Family Services Association of NYS\, among others.\n\n\n\nZoom with us\, and learn what it takes to become an effective communicator\, nonprofit executive and leader in the community. Reserve your spot today!\n\n\n\nTo Register\, Click: Here\n\n\n\nSponsored by: M & T Bank
X-ALT-DESC;FMTTYPE=text/html:<br />\n<span style="font-size:16px\;"><span style="font-family:tahoma\;"><span style="background-color: transparent\; color: rgb(35\, 35\, 51)\; font-variant-numeric: normal\; font-variant-east-asian: normal\;">Brian Doyle is an accomplished human services executive whose expertise\, vision and passion for serving individuals and families in need has enabled Family Services to grow\, and play an even more vital role in our community. He previously served as the Associate Executive Director at Ulster-Greene ARC\, and as Special Assistant to the Executive Director at ARC in Westchester\, and is active in numerous community organizations and committees\, including City of Poughkeepsie Common Council\, Poughkeepsie Alliance\, Community and Family Services Association of NYS\, among others.</span><br style="background-color: transparent\; box-sizing: border-box\; color: rgb(35\, 35\, 51)\; font-size: 14px\; font-variant-numeric: normal\; font-variant-east-asian: normal\;" />\n<br style="background-color: transparent\; box-sizing: border-box\; color: rgb(35\, 35\, 51)\; font-size: 14px\; font-variant-numeric: normal\; font-variant-east-asian: normal\;" />\n<span style="background-color: transparent\; color: rgb(35\, 35\, 51)\; font-variant-numeric: normal\; font-variant-east-asian: normal\;">Zoom with us\, and learn what it takes to become an effective communicator\, nonprofit executive and leader in the community. Reserve your spot today!<br />\n<br />\n<strong>To Register\, Click</strong>: </span><span style="background-color: transparent\; font-variant-numeric: normal\; font-variant-east-asian: normal\;"><strong><a href="https://us02web.zoom.us/meeting/register/tZwvf--urTopHtbHhxWplOHfAPLUG9p8XXNA" target="_blank"><span style="color:#0000FF\;">Here</span></a></strong></span></span></span><br />\n<br />\n<span style="font-size:16px\;"><span style="font-family:tahoma\;"><strong>Sponsored by: <a href="https://www.mtb.com/home-page" target="_blank"><span style="color:#0000FF\;">M &amp\; T Bank</span></a></strong></span></span>
LOCATION:
UID:e.2770.10482576
SEQUENCE:3
DTSTAMP:20260422T034011Z
URL:http://dutchesscountyregional.smartcms.site/events/details/hvyp-virtual-ceo-chat-10482576
END:VEVENT

END:VCALENDAR
