BEGIN:VCALENDAR
VERSION:2.0
PRODID:-//ChamberMaster//Event Calendar 2.0//EN
METHOD:PUBLISH
X-PUBLISHED-TTL:P3D
REFRESH-INTERVAL:P3D
CALSCALE:GREGORIAN
BEGIN:VEVENT
DTSTART:20190504T160000Z
DTEND:20190504T160000Z
X-MICROSOFT-CDO-ALLDAYEVENT:FALSE
SUMMARY:"I Love My Park" Day
DESCRIPTION:"I Love My Park" Day is a statewide event to celebrate and enhance New York's state parks and historic sites and bring visibility to the entire New York State Parks system. Volunteers participate in cleanup\, improvement\, and beautification events at New York State parks and historic sites.
X-ALT-DESC;FMTTYPE=text/html:&ldquo\;I Love My Park&rdquo\; Day is a statewide event to celebrate and enhance New York&rsquo\;s state parks and historic sites and bring visibility to the entire New York State Parks system. Volunteers participate in cleanup\, improvement\, and beautification events at New York State parks and historic sites.
LOCATION:East (Poughkeepsie) & West (Highland) Entrances of the Walkway Over the Hudson State Historic Park and Upper Landing Park
UID:e.2770.10480624
SEQUENCE:3
DTSTAMP:20260423T035157Z
URL:http://dutchesscountyregional.smartcms.site/events/details/i-love-my-park-day-05-04-2019-10480624
END:VEVENT

END:VCALENDAR
