BEGIN:VCALENDAR
VERSION:2.0
PRODID:-//ChamberMaster//Event Calendar 2.0//EN
METHOD:PUBLISH
X-PUBLISHED-TTL:P3D
REFRESH-INTERVAL:P3D
CALSCALE:GREGORIAN
BEGIN:VEVENT
DTSTART:20180505T130000Z
DTEND:20180505T170000Z
X-MICROSOFT-CDO-ALLDAYEVENT:FALSE
SUMMARY:I Love My Park Day
DESCRIPTION:Join Walkway Ambassadors and volunteers for New York State's "I Love My Park Day" on Saturday\, May 5\, 2018\, and help us clean up and beautify the east and west approaches to the Walkway Over the Hudson State Historic Park. "I Love My Park" Day is an exciting statewide event to celebrate and enhance New York's state parks and historic sites and bring visibility to the entire New York State Parks system. Volunteers from across the state participate in cleanup\, improvement\, and beautification events at New York State parks and historic sites. Volunteers celebrate New York's state park system by cleaning up park lands and beaches\, planting trees and gardens\, restoring trails and wildlife habitat\, removing invasive species\, and working on various site-improvement projects.
X-ALT-DESC;FMTTYPE=text/html:Join Walkway Ambassadors and volunteers for New York State&rsquo\;s &ldquo\;I Love My Park Day&rdquo\; on Saturday\, May 5\, 2018\, and help us clean up and beautify the east and west approaches to the Walkway Over the Hudson State Historic Park. &ldquo\;I Love My Park&rdquo\; Day is an exciting statewide event to celebrate and enhance New York&rsquo\;s state parks and historic sites and bring visibility to the entire New York State Parks system. Volunteers from across the state participate in cleanup\, improvement\, and beautification events at New York State parks and historic sites. Volunteers celebrate New York&rsquo\;s state park system by cleaning up park lands and beaches\, planting trees and gardens\, restoring trails and wildlife habitat\, removing invasive species\, and working on various site-improvement projects.
LOCATION:Walkway Over the Hudson Walkway East Entrance 61 Parker Avenue Poughkeepsie\, NY Walkway West Entrance 87 Haviland Road Highland\, NY 12601
UID:e.2770.10477765
SEQUENCE:3
DTSTAMP:20260426T034350Z
URL:http://dutchesscountyregional.smartcms.site/events/details/i-love-my-park-day-05-05-2018-10477765
END:VEVENT

END:VCALENDAR
