BEGIN:VCALENDAR
VERSION:2.0
PRODID:-//ChamberMaster//Event Calendar 2.0//EN
METHOD:PUBLISH
X-PUBLISHED-TTL:P3D
REFRESH-INTERVAL:P3D
CALSCALE:GREGORIAN
BEGIN:VEVENT
DTSTART:20191015T220000Z
DTEND:20191016T000000Z
X-MICROSOFT-CDO-ALLDAYEVENT:FALSE
SUMMARY:Inclusive Community Planning - Chronogram Conversations
DESCRIPTION:The next Chronogram Conversation will be on inclusive community planning presented by Clarkson University\, Beacon Institute for Rivers and Estuaries. How do we create inclusive community development? What are some win-win models for urban prosperity in our area? What does this look like in our area? We'll chat with panelists Michael Oats\, President\, Hudson Valley Economic Development Corporation\, Sarah Salem\, Council Member\, City of Poughkeepsie Common Council\, Ward 2\, and Joe Czajka\, Senior Vice President for Research\, Development & Community Planning at Pattern for Progress\, and more. Small bites from Bread Alone and wine from Benmarl Winery included. Tickets are $10 in advance / $15 at the door. Join the conversation Tuesday\, October 15 from 6-8pm at Clarkson University Beacon Institute for Rivers and Estuaries.
X-ALT-DESC;FMTTYPE=text/html:The next Chronogram Conversation will be on inclusive community planning presented by Clarkson University\, Beacon Institute for Rivers and Estuaries. How do we create inclusive community development? What are some win-win models for urban prosperity in our area? What does this look like in our area? We&#39\;ll chat with panelists Michael Oats\, President\, Hudson Valley Economic Development Corporation\, Sarah Salem\, Council Member\, City of Poughkeepsie Common Council\, Ward 2\, and Joe Czajka\, Senior Vice President for Research\, Development &amp\; Community Planning at Pattern for Progress\, and more. Small bites from Bread Alone and wine from Benmarl Winery included. Tickets are $10 in advance / $15 at the door. Join the conversation Tuesday\, October 15 from 6-8pm at Clarkson University Beacon Institute for Rivers and Estuaries.
LOCATION:Clarkson University Beacon Institute for Rivers and Estuaries 199 Dennings Ave\, Beacon\, NY 12508
UID:e.2770.10481423
SEQUENCE:3
DTSTAMP:20260422T190840Z
URL:http://dutchesscountyregional.smartcms.site/events/details/inclusive-community-planning-chronogram-conversations-10481423
END:VEVENT

END:VCALENDAR
