BEGIN:VCALENDAR
VERSION:2.0
PRODID:-//ChamberMaster//Event Calendar 2.0//EN
METHOD:PUBLISH
X-PUBLISHED-TTL:P3D
REFRESH-INTERVAL:P3D
CALSCALE:GREGORIAN
BEGIN:VEVENT
DTSTART:20200702T150000Z
DTEND:20200702T160000Z
X-MICROSOFT-CDO-ALLDAYEVENT:FALSE
SUMMARY:Increasing Your Online Presence
DESCRIPTION:Reignite Your Business Webinar Series As a business owner\, there are so many factors to consider as you prep for re-opening. To help you tackle some of those\, we've put together Reignite Your Business\, a series of webinars designed to get you the expert guidance you'll need on this new journey. From adapting your business development strategy to increasing online presence\, each session is geared towards providing you with the essential tools for success. Description: With a majority of services moving to an online platform\, your business's online presence is more critical than ever. In this session we'll cover how to audit and update your website and how to increase your presence on Google. When: Thursday\, July 2 @ 11:00 AM Hosted By: Sarah Short\, MHV Financial Education Specialist Presented By: Caroline Falk\, MHV Marketing Specialist & Taylor Richardson\, Senior Marketing Cloud Consultant at EMS Consulting Other sessions of this webinar series include: Adjusting Your Business Development Strategy\, Managing Your Finances and Developing a New Marketing Plan. Sign up at mhvfcu.com/seminars
X-ALT-DESC;FMTTYPE=text/html:Reignite Your Business Webinar Series As a business owner\, there are so many factors to consider as you prep for re-opening. To help you tackle some of those\, we&rsquo\;ve put together Reignite Your Business\, a series of webinars designed to get you the expert guidance you&rsquo\;ll need on this new journey. From adapting your business development strategy to increasing online presence\, each session is geared towards providing you with the essential tools for success. Description: With a majority of services moving to an online platform\, your business&rsquo\;s online presence is more critical than ever. In this session we&rsquo\;ll cover how to audit and update your website and how to increase your presence on Google. When: Thursday\, July 2 @ 11:00 AM Hosted By: Sarah Short\, MHV Financial Education Specialist Presented By: Caroline Falk\, MHV Marketing Specialist &amp\; Taylor Richardson\, Senior Marketing Cloud Consultant at EMS Consulting Other sessions of this webinar series include: Adjusting Your Business Development Strategy\, Managing Your Finances and Developing a New Marketing Plan. Sign up at mhvfcu.com/seminars
LOCATION:Webinar
UID:e.2770.10483313
SEQUENCE:3
DTSTAMP:20260422T015916Z
URL:http://dutchesscountyregional.smartcms.site/events/details/increasing-your-online-presence-10483313
END:VEVENT

END:VCALENDAR
