BEGIN:VCALENDAR
VERSION:2.0
PRODID:-//ChamberMaster//Event Calendar 2.0//EN
METHOD:PUBLISH
X-PUBLISHED-TTL:P3D
REFRESH-INTERVAL:P3D
CALSCALE:GREGORIAN
BEGIN:VEVENT
DTSTART:20200225T210000Z
DTEND:20200225T220000Z
X-MICROSOFT-CDO-ALLDAYEVENT:FALSE
SUMMARY:Interview Skill Building
DESCRIPTION:Have you been out of the employment world for a while\, and need to brush up on some skills? Or struggling with how to prepare for an upcoming interview? No worries! In this 1 hour course you will learn what to do before\, during and even after an interview with a prospective employer.
X-ALT-DESC;FMTTYPE=text/html:Have you been out of the employment world for a while\, and need to brush up on some skills? Or struggling with how to prepare for an upcoming interview? No worries! In this 1 hour course you will learn what to do before\, during and even after an interview with a prospective employer.
LOCATION:Turning Over Stones: Employment and Resource Center 5 Givans Avenue\, 1st Floor Wappingers Falls\, NY 12590
UID:e.2770.10482676
SEQUENCE:3
DTSTAMP:20260422T103220Z
URL:http://dutchesscountyregional.smartcms.site/events/details/interview-skill-building-02-25-2020-10482676
END:VEVENT

END:VCALENDAR
