BEGIN:VCALENDAR
VERSION:2.0
PRODID:-//ChamberMaster//Event Calendar 2.0//EN
METHOD:PUBLISH
X-PUBLISHED-TTL:P3D
REFRESH-INTERVAL:P3D
CALSCALE:GREGORIAN
BEGIN:VEVENT
DTSTART:20200123T200000Z
DTEND:20200123T210000Z
X-MICROSOFT-CDO-ALLDAYEVENT:FALSE
SUMMARY:Introduction to LinkedIn
DESCRIPTION:Looking to get back into the social world of employment? Want to connect with prospective employers and have yourself stand out? This 1 hour introductory class can help you navigate your way around the professional platform of LinkedIn. Learn how to create a profile\, connect with employers and research your ideal career.
X-ALT-DESC;FMTTYPE=text/html:Looking to get back into the social world of employment? Want to connect with prospective employers and have yourself stand out? This 1 hour introductory class can help you navigate your way around the professional platform of LinkedIn. Learn how to create a profile\, connect with employers and research your ideal career.
LOCATION:Turning Over Stones: Employment and Resource Center 5 Givans Avenue\, 1st Floor Wappingers Falls\, NY 12590
UID:e.2770.10482640
SEQUENCE:3
DTSTAMP:20260422T121258Z
URL:http://dutchesscountyregional.smartcms.site/events/details/introduction-to-linkedin-10482640
END:VEVENT

END:VCALENDAR
