BEGIN:VCALENDAR
VERSION:2.0
PRODID:-//ChamberMaster//Event Calendar 2.0//EN
METHOD:PUBLISH
X-PUBLISHED-TTL:P3D
REFRESH-INTERVAL:P3D
CALSCALE:GREGORIAN
BEGIN:VEVENT
DTSTART:20200225T230000Z
DTEND:20200226T000000Z
X-MICROSOFT-CDO-ALLDAYEVENT:FALSE
SUMMARY:Introduction to Yoga
DESCRIPTION:Feeling stressed and worn out? This 1 hour introduction to yoga will help to relieve tension built up in the body and get your mind back in a peaceful state. Learn some ways in which breathing and simple body posture can help alleviate the stress in your life.
X-ALT-DESC;FMTTYPE=text/html:Feeling stressed and worn out? This 1 hour introduction to yoga will help to relieve tension built up in the body and get your mind back in a peaceful state. Learn some ways in which breathing and simple body posture can help alleviate the stress in your life.
LOCATION:Turning Over Stones: Employment and Resource Center 5 Givans Avenue\, 1st Floor Wappingers Falls\, NY 12590
UID:e.2770.10482677
SEQUENCE:3
DTSTAMP:20260422T121443Z
URL:http://dutchesscountyregional.smartcms.site/events/details/introduction-to-yoga-02-25-2020-10482677
END:VEVENT

END:VCALENDAR
