BEGIN:VCALENDAR
VERSION:2.0
PRODID:-//ChamberMaster//Event Calendar 2.0//EN
METHOD:PUBLISH
X-PUBLISHED-TTL:P3D
REFRESH-INTERVAL:P3D
CALSCALE:GREGORIAN
BEGIN:VEVENT
DTSTART:20180519T153000Z
DTEND:20180520T020000Z
X-MICROSOFT-CDO-ALLDAYEVENT:FALSE
SUMMARY:Italian Festival 2018!!
DESCRIPTION:Entertainment:\n\nThursday:\n\n5:30 - 8:30 PM : Roberto Milanese & Angela Bruno\n\n7:45 - 9:45 PM : Jackee the Magician\n\nFriday:\n\n6:30 - 9:30 PM : Bills Toupee\n\nSaturday:\n\n2 - 5 PM : Jerry Nicolato\n\n6:30 - 9:30 PM : Midnite Image\n\nSunday:\n\n1:30 - 3:30 PM : Bee Bee the Clown - free balloons\n\n2 - 3 PM : JG Dancers\n\n3:45 - 4:30 PM : Magic Show\n\n5:30 - 8:30 PM : The Chain Gang\n\n\n\nFood:\n\nPasta\, pastries\, clams\, calamari\, sausage and peppers\, meatballs\, pizza\, zeppoli\, cotton candy\, and more!
X-ALT-DESC;FMTTYPE=text/html:Entertainment:<br />\nThursday:<br />\n5:30 - 8:30 PM : Roberto Milanese &amp\; Angela Bruno<br />\n7:45 - 9:45 PM : Jackee the Magician<br />\nFriday:<br />\n6:30 - 9:30 PM : Bills Toupee<br />\nSaturday:<br />\n2 - 5 PM : Jerry Nicolato<br />\n6:30 - 9:30 PM : Midnite Image<br />\nSunday:<br />\n1:30 - 3:30 PM : Bee Bee the Clown - free balloons<br />\n2 - 3 PM : JG Dancers<br />\n3:45 - 4:30 PM : Magic Show<br />\n5:30 - 8:30 PM : The Chain Gang<br />\n<br />\nFood:<br />\nPasta\, pastries\, clams\, calamari\, sausage and peppers\, meatballs\, pizza\, zeppoli\, cotton candy\, and more!
LOCATION:The Italian Center 227 Mill St Poughkeepsie\, NY
UID:e.2770.10477802
SEQUENCE:3
DTSTAMP:20260426T034402Z
URL:http://dutchesscountyregional.smartcms.site/events/details/italian-festival-2018-10477802
END:VEVENT

END:VCALENDAR
