BEGIN:VCALENDAR
VERSION:2.0
PRODID:-//ChamberMaster//Event Calendar 2.0//EN
METHOD:PUBLISH
X-PUBLISHED-TTL:P3D
REFRESH-INTERVAL:P3D
CALSCALE:GREGORIAN
BEGIN:VEVENT
DTSTART:20201218T210000Z
DTEND:20201218T230000Z
X-MICROSOFT-CDO-ALLDAYEVENT:FALSE
SUMMARY:IV Infusion Happy Hour
DESCRIPTION:50% off Stress IV Infusion\n\n50% off any IV Infusion\n\n*For new clients only
X-ALT-DESC;FMTTYPE=text/html:50% off Stress IV Infusion<br />\n50% off any IV Infusion<br />\n*For new clients only
LOCATION:
UID:e.2770.10484830
SEQUENCE:3
DTSTAMP:20260421T180046Z
URL:http://dutchesscountyregional.smartcms.site/events/details/iv-infusion-happy-hour-10484830
END:VEVENT

END:VCALENDAR
