BEGIN:VCALENDAR
VERSION:2.0
PRODID:-//ChamberMaster//Event Calendar 2.0//EN
METHOD:PUBLISH
X-PUBLISHED-TTL:P3D
REFRESH-INTERVAL:P3D
CALSCALE:GREGORIAN
BEGIN:VEVENT
DTSTART:20190824T160000Z
DTEND:20190824T200000Z
X-MICROSOFT-CDO-ALLDAYEVENT:FALSE
SUMMARY:JMS 1st Networking Extravaganza
DESCRIPTION:Take your business or business ideas to the next level at this Networking Event. Our panel of speakers will Empower\, Inspire and impart Knowledge to grow and expand a business at any level. Vendors will have quality products and services for purchase. Opportunities for Collaborations and Joint Ventures with businesses makes this an event you won't want to miss!! https://www.eventbrite.com/e/jms-1st-networking-extravaganza-tickets-60557402822?utm-medium=discovery&utm-campaign=social&utm-content=attendeeshare&utm-source=strongmail&utm-term=listing
X-ALT-DESC;FMTTYPE=text/html:Take your business or business ideas to the next level at this Networking Event. Our panel of speakers will Empower\, Inspire and impart Knowledge to grow and expand a business at any level. Vendors will have quality products and services for purchase. Opportunities for Collaborations and Joint Ventures with businesses makes this an event you won&#39\;t want to miss!! https://www.eventbrite.com/e/jms-1st-networking-extravaganza-tickets-60557402822?utm-medium=discovery&amp\;utm-campaign=social&amp\;utm-content=attendeeshare&amp\;utm-source=strongmail&amp\;utm-term=listing
LOCATION:Hyatt House: 100 Westage Business Center Dr. Fishkill N.Y.12524
UID:e.2770.10480803
SEQUENCE:3
DTSTAMP:20260422T223213Z
URL:http://dutchesscountyregional.smartcms.site/events/details/jms-1st-networking-extravaganza-10480803
END:VEVENT

END:VCALENDAR
