BEGIN:VCALENDAR
VERSION:2.0
PRODID:-//ChamberMaster//Event Calendar 2.0//EN
METHOD:PUBLISH
X-PUBLISHED-TTL:P3D
REFRESH-INTERVAL:P3D
CALSCALE:GREGORIAN
BEGIN:VEVENT
DTSTART:20210617T160000Z
DTEND:20210617T190000Z
X-MICROSOFT-CDO-ALLDAYEVENT:FALSE
SUMMARY:Job Fair/Hiring Day at The Grand Rehabilitation and Nursing at River Valley
DESCRIPTION:The Grand Rehabilitation and Nursing at River Valley in Poughkeepsie\, NY will be having a Job Fair on June 16th from 12pm-3pm. We will have on the spot interviews for nursing positions including Acting Nursing Assistants\, CNAs\, LPNs\, RNs\, and Non-Clinical Staff. We offer Sign On Bonuses and also have a Referral Program! There will also be free food and refreshments!!
X-ALT-DESC;FMTTYPE=text/html:The Grand Rehabilitation and Nursing at River Valley in Poughkeepsie\, NY will be having a Job Fair on June 16th from 12pm-3pm. We will have on the spot interviews for nursing positions including Acting Nursing Assistants\, CNAs\, LPNs\, RNs\, and Non-Clinical Staff. We offer Sign On Bonuses and also have a Referral Program! There will also be free food and refreshments!!
LOCATION:The Grand Rehabilitation and Nursing at River Valley 140 Main Street\, Poughkeepsie\, NY 12601
UID:e.2770.10485229
SEQUENCE:3
DTSTAMP:20260421T083456Z
URL:http://dutchesscountyregional.smartcms.site/events/details/job-fair-hiring-day-at-the-grand-rehabilitation-and-nursing-at-river-valley-10485229
END:VEVENT

END:VCALENDAR
