BEGIN:VCALENDAR
VERSION:2.0
PRODID:-//ChamberMaster//Event Calendar 2.0//EN
METHOD:PUBLISH
X-PUBLISHED-TTL:P3D
REFRESH-INTERVAL:P3D
CALSCALE:GREGORIAN
BEGIN:VEVENT
DTSTART:20190724T113000Z
DTEND:20190724T130000Z
X-MICROSOFT-CDO-ALLDAYEVENT:FALSE
SUMMARY:July Contact Breakfast
DESCRIPTION:***Please note if you try to register after 5:30 PM on Tuesday\, July 23rd you will NOT be on our registration list. Please report to the UNPAID Table when you arrive.\n\n\n\nThe July Contact Breakfast will feature the recognition of the 2019 Headliner Awards as well as a presentation on the economic impact of regional developments\, including Eastdale Village and Hudson Heritage. The breakfast is sponsored by KeyBank\, and the Headliner Awards are sponsored by Hudson Valley Fresh.\n\n\n\nAs you all know\, there are many people in need of our assistance. The Chamber's Ambassador committee has partnered with our Workforce Development Center to collect canned and dry goods at our Contact Breakfast. Your donations are greatly appreciated.\n\n\n\nSponsored by: KeyBank\n\n\n\nNonprofit: Hudson Valley Council Boy Scouts
X-ALT-DESC;FMTTYPE=text/html:<p><strong><span lang="EN" style="color: red\; font-family: &quot\;Calibri&quot\;\,sans-serif\; font-size: 13.5pt\; mso-bidi-font-family: &quot\;Times New Roman&quot\;\; mso-ansi-language: EN\;">***Please note if&nbsp\;you try to register after 5:30 PM on Tuesday\,&nbsp\;July 23rd&nbsp\;you will NOT be on our registration list. Please report to the UNPAID Table when you arrive.</span></strong><br />\n<br />\n<span style="color: rgb(0\, 0\, 0)\; font-family: Calibri\, sans-serif\; font-size: 14.66px\; caret-color: rgb(0\, 0\, 0)\; text-size-adjust: auto\;">The July Contact Breakfast will feature the recognition of the 2019 Headliner Awards as well as a presentation on the economic impact of regional developments\, including Eastdale Village and Hudson Heritage. The breakfast is sponsored by KeyBank\, and the Headliner Awards are sponsored by Hudson Valley Fresh.</span><br />\n<br />\n<span style="font-size: 14px\;"><span style="font-family: arial\;"><strong style="color: rgb(51\, 51\, 51)\; font-family: sans-serif\, Arial\, Verdana\, &quot\;Trebuchet MS&quot\;\; font-size: 13px\; background-color: rgb(255\, 255\, 255)\;">As you all know\, there are many people in need of our assistance. The Chamber&#39\;s Ambassador committee has partnered with our Workforce Development Center to collect canned and dry goods at our Contact Breakfast. Your donations are greatly appreciated.</strong><br />\n<br />\n<strong style="color: rgb(51\, 51\, 51)\; font-family: sans-serif\, Arial\, Verdana\, &quot\;Trebuchet MS&quot\;\; font-size: 13px\; background-color: rgb(255\, 255\, 255)\;"><span style="font-size: 16px\;">Sponsored by: <a href="https://www.key.com/personal/index.jsp" target="_blank"><span style="color: rgb(0\, 0\, 255)\;">KeyBank</span></a></span></strong></span></span><br />\n<br />\n<strong>Nonprofit: Hudson Valley Council Boy Scouts</strong></p>\n
LOCATION:The Poughkeepsie Grand Hotel & Conference Center 40 Civic Center Plaza Poughkeepsie\, NY 12601
UID:e.2770.10479883
SEQUENCE:3
DTSTAMP:20260423T001730Z
URL:http://dutchesscountyregional.smartcms.site/events/details/july-contact-breakfast-10479883
END:VEVENT

END:VCALENDAR
