BEGIN:VCALENDAR
VERSION:2.0
PRODID:-//ChamberMaster//Event Calendar 2.0//EN
METHOD:PUBLISH
X-PUBLISHED-TTL:P3D
REFRESH-INTERVAL:P3D
CALSCALE:GREGORIAN
BEGIN:VEVENT
DTSTART:20210324T160000Z
DTEND:20210324T173000Z
X-MICROSOFT-CDO-ALLDAYEVENT:FALSE
SUMMARY:FREE WEBINAR - Keane & Beane Spring Webinar Series: Part I - Open Meetings Law
DESCRIPTION:On Wednesday\, March 24\, 2021\, Keane & Beane\, P.C. will present its 2021 Spring Webinar Series\, Part I: "Open Meetings Law: Practice Tips and Case Law Update for Holding Meetings During a Pandemic and Getting Ready for In Person Meetings". Attorneys Ralph C. DeMarco and Susan E. Fine will provide an overview on compliance with the Open Meetings Law (OML) and comment on common missteps.\n\nIn addition to a discussion of recent case law\, including cases where actions taken in violation of the OML have been voided and attorney fees awarded\, the following topics will include:\n\n\n\n	Current status of applicable Executive Orders\n	OML requirements for meetings of public bodies\n	Conducting executive sessions\n	Public comments\n\n\n\nTo register\, email "Sign Me Up" to bdurkin@kblaw.com. An invitation link will be sent the morning of the event.
X-ALT-DESC;FMTTYPE=text/html:<p>On Wednesday\, March 24\, 2021\, Keane &amp\; Beane\, P.C. will present its 2021 Spring Webinar Series\, Part I: &quot\;Open Meetings Law: Practice Tips and Case Law Update for Holding Meetings During a Pandemic and Getting Ready for In Person Meetings&quot\;. Attorneys <a href="https://www.kblaw.com/member/ralph-c-demarco/">Ralph C. DeMarco</a> and <a href="https://www.kblaw.com/member/susan-fine/">Susan E. Fine</a> will provide an overview on compliance with the Open Meetings Law (OML) and comment on common missteps.</p>\n\n<p>In addition to a discussion of recent case law\, including cases where actions taken in violation of the OML have been voided and attorney fees awarded\, the following topics will include:</p>\n<!-- /wp:paragraph --><!-- wp:list -->\n\n<ul>\n	<li>Current status of applicable Executive Orders</li>\n	<li>OML requirements for meetings of public bodies</li>\n	<li>Conducting executive sessions</li>\n	<li>Public comments</li>\n</ul>\n<!-- /wp:list --><!-- wp:paragraph -->\n\n<p>To register\, email &quot\;Sign Me Up&quot\; to <a href="mailto:bdurkin@kblaw.com">bdurkin@kblaw.com</a>. An invitation link will be sent the morning of the event.</p>\n
LOCATION:Zoom Webinar - registration required
UID:e.2770.10485028
SEQUENCE:3
DTSTAMP:20260421T132129Z
URL:http://dutchesscountyregional.smartcms.site/events/details/keane-beane-spring-webinar-series-part-i-open-meetings-law-10485028
END:VEVENT

END:VCALENDAR
