BEGIN:VCALENDAR
VERSION:2.0
PRODID:-//ChamberMaster//Event Calendar 2.0//EN
METHOD:PUBLISH
X-PUBLISHED-TTL:P3D
REFRESH-INTERVAL:P3D
CALSCALE:GREGORIAN
BEGIN:VEVENT
DTSTART:20190207T173000Z
DTEND:20190207T183000Z
X-MICROSOFT-CDO-ALLDAYEVENT:FALSE
SUMMARY:Know the 10 Signs: Early Alzheimer's Detection Matters
DESCRIPTION:A free educational program by the Alzheimer's Association Hudson Valley Chapter on how to recognize the 10 signs of Alzheimer's and why early detection is important. To RSVP\, contact Cathy Camazian at 845.633.1266 or email at catherinecamazian@gmail.com. For more information\, contact Alzheimer's Association at 800.272.3900.
X-ALT-DESC;FMTTYPE=text/html:A free educational program by the Alzheimer&#39\;s Association Hudson Valley Chapter on how to recognize the 10 signs of Alzheimer&rsquo\;s and why early detection is important. To RSVP\, contact Cathy Camazian at 845.633.1266 or email at catherinecamazian@gmail.com. For more information\, contact Alzheimer&#39\;s Association at 800.272.3900.
LOCATION:St. Catherine Laboure Church 200 Tuyten Bridge Road Lake Katrine\, New York 12449
UID:e.2770.10479953
SEQUENCE:3
DTSTAMP:20260423T084012Z
URL:http://dutchesscountyregional.smartcms.site/events/details/know-the-10-signs-early-alzheimer-s-detection-matters-10479953
END:VEVENT

END:VCALENDAR
