BEGIN:VCALENDAR
VERSION:2.0
PRODID:-//ChamberMaster//Event Calendar 2.0//EN
METHOD:PUBLISH
X-PUBLISHED-TTL:P3D
REFRESH-INTERVAL:P3D
CALSCALE:GREGORIAN
BEGIN:VEVENT
DTSTART:20200410T120000Z
DTEND:20200410T133000Z
X-MICROSOFT-CDO-ALLDAYEVENT:FALSE
SUMMARY:Latest Guidance from a Legal and HR Perspective for Employers Webinar
DESCRIPTION:Featuring panelists Ed Kowalski\, Human Resources Director from Ethan Allen Workforce Solutions and David Wise\, Partner at Mackey Butts and Wise LLP. \n\n\n\nQuestions may be sent in advance to richk@dcrcoc.org\, and as many questions as possible will be answered on the webinar following the presentation. This webinar will be recorded and available to watch on demand.\n\n\n\nRegister in advance is required\, as space is limited.\n\n\n\nhttps://zoom.us/webinar/register/WN_JxIhK6LmTMakJ3YfcIQqNA
X-ALT-DESC;FMTTYPE=text/html:<br />\n<span style="font-size:16px\;"><span style="font-family:tahoma\;"><span style="color:#232333\;">Featuring panelists Ed Kowalski\, Human Resources Director from Ethan Allen Workforce Solutions and David Wise\, Partner at Mackey Butts and Wise LLP. </span><br />\n<br />\n<span style="background-image:initial\;background-position:initial\;background-size:initial\;background-repeat:initial\;background-attachment:initial\;background-origin:initial\;background-clip:initial\;"><span style="color:#232333\;">Questions may be sent in advance to </span><a href="mailto:richk@dcrcoc.org"><span style="color:#0000FF\;">richk@dcrcoc.org</span></a><span style="color:#232333\;">\, and as many questions as possible will be answered on the webinar following the presentation. This webinar will be recorded and available to watch on demand.</span></span><br />\n<br />\nRegister in advance is required\, as space is limited.<br />\n<br />\n<a href="https://zoom.us/webinar/register/WN_JxIhK6LmTMakJ3YfcIQqNA" target="_blank"><span style="color:#0000FF\;">https://zoom.us/webinar/register/WN_JxIhK6LmTMakJ3YfcIQqNA</span></a></span></span>
LOCATION:
UID:e.2770.10483248
SEQUENCE:3
DTSTAMP:20260422T072431Z
URL:http://dutchesscountyregional.smartcms.site/events/details/latest-guidance-from-a-legal-and-hr-perspective-for-employers-webinar-10483248
END:VEVENT

END:VCALENDAR
