BEGIN:VCALENDAR
VERSION:2.0
PRODID:-//ChamberMaster//Event Calendar 2.0//EN
METHOD:PUBLISH
X-PUBLISHED-TTL:P3D
REFRESH-INTERVAL:P3D
CALSCALE:GREGORIAN
BEGIN:VEVENT
DTSTART:20180607T213000Z
DTEND:20180608T003000Z
X-MICROSOFT-CDO-ALLDAYEVENT:FALSE
SUMMARY:Leadership Dutchess Graduation
DESCRIPTION:Join us to celebrate the Leadership Dutchess Class of 2018! \n\nA cocktail reception featuring gourmet stations and passed hors d'oeuvres\, 5:30 PM. Followed by presentations and awards at 6:45 PM. \n\n\n\nPlease RSVP by June 1st.
X-ALT-DESC;FMTTYPE=text/html:<p><span style="color:#000000\;"><span style="font-size: 14px\;"><span style="font-family: arial\;">Join us to celebrate the Leadership Dutchess Class of 2018!&nbsp\;<br />\nA cocktail reception featuring gourmet stations and passed hors d&#39\;oeuvres\, 5:30 PM. Followed by presentations and awards at 6:45 PM.&nbsp\;</span></span><br />\n<br />\n<span style="font-size: 14px\;"><span style="font-family: arial\;"><strong>Please RSVP by June 1st.</strong></span></span></span></p>\n
LOCATION:Dutchess Manor 263 Route 9D Beacon\, NY 12508
UID:e.2770.10476434
SEQUENCE:3
DTSTAMP:20260426T022137Z
URL:http://dutchesscountyregional.smartcms.site/events/details/leadership-dutchess-graduation-10476434
END:VEVENT

END:VCALENDAR
