BEGIN:VCALENDAR
VERSION:2.0
PRODID:-//ChamberMaster//Event Calendar 2.0//EN
METHOD:PUBLISH
X-PUBLISHED-TTL:P3D
REFRESH-INTERVAL:P3D
CALSCALE:GREGORIAN
BEGIN:VEVENT
DTSTART:20200331T213000Z
DTEND:20200331T224500Z
X-MICROSOFT-CDO-ALLDAYEVENT:FALSE
SUMMARY:Leadership Program Information Session - POSTPONED***
DESCRIPTION:Guests with registrations for postponed events will be automatically registered for the re-scheduled event\, and notified of the new date and time.\n\n\n\n\n\nLearn about being part of the Leadership Dutchess Class of 2021 or a mentor/mentee for the class of 2021.
X-ALT-DESC;FMTTYPE=text/html:&nbsp\;<br />\n<span style="background:yellow\;"><span style="color:#333333\;"><span style="font-family:tahoma\,sans-serif\;"><span style="font-size:16.0pt\;">Guests with registrations for postponed events will be automatically registered for the re-scheduled event\, and notified of the new date and time.</span></span></span></span><br />\n<br />\n<br />\n<strong><span style="font-size:16px\;"><span style="font-family:tahoma\;">Learn about being part of the Leadership Dutchess Class of 2021 or a mentor/mentee for the class of 2021.</span></span></strong>
LOCATION:Chamber Offices 1 Civic Center Plaza Suite 400 Poughkeepsie
UID:e.2770.10482684
SEQUENCE:3
DTSTAMP:20260422T090439Z
URL:http://dutchesscountyregional.smartcms.site/events/details/leadership-program-information-session-postponed-10482684
END:VEVENT

END:VCALENDAR
