BEGIN:VCALENDAR
VERSION:2.0
PRODID:-//ChamberMaster//Event Calendar 2.0//EN
METHOD:PUBLISH
X-PUBLISHED-TTL:P3D
REFRESH-INTERVAL:P3D
CALSCALE:GREGORIAN
BEGIN:VEVENT
DTSTART:20180501T220000Z
DTEND:20180501T230000Z
X-MICROSOFT-CDO-ALLDAYEVENT:FALSE
SUMMARY:Learn To Run Program
DESCRIPTION:This is a beginner's running program. The program starts on May 1 and takes place weekly\, every Tuesday\, through June 19. \n\nLearn To Run is limited to 60 Participants. Gather your co-workers\, friends and family and register as a group for extra motivation!\n\nRegistration Required. \n\nLEARN TO RUN\n\nOver the course of 8 weeks\, participants in the Learn to Run group will progress from non-runners to being able to run for 20 minutes without stopping. This program is designed to assist and to encourage individuals interested in the sport of running to learn safe and effective running habits with the goal of gradually improving distance and pace. Runners will be coached by Lori Cassia-Decker\, who brings over 35 years of experience in the fitness industry. She is also a triathlete\, marathon runner and cyclist. \n\nThe Learn to Run sessions take place from 6:00-7:00 pm on Tuesdays at the outdoor track at Arthur S. May School\, located at 601 Dutchess Turnpike. \n\nPLEASE NOTE: The program is limited to 60 participants\; only those who have registered can take part   no exceptions! The program welcomes persons of all ages. Parent or Guardian must sign waiver on behalf of minor child. \n\nQuestions? Call 845-454-1700 ext. 1007. All participants must sign a waiver of liability form.\n\nLearn To Run is sponsored by: Moriarty Physical Therapy\, Fleet Feet of Poughkeepsie\, Fortress Financial Advisory\, LLC\, Health Quest and Gorman's Garage\, Inc.
X-ALT-DESC;FMTTYPE=text/html:<p><span style="font-family:'Verdana'\,'sans-serif'\;">This is a beginner&#39\;s running program. The program starts on May 1 and takes place weekly\, every Tuesday\, through June 19. </span></p>\n\n<p><span style="font-family:'Verdana'\,'sans-serif'\;">Learn To Run is limited to 60 Participants. Gather your co-workers\, friends and family and register as a group for extra motivation!</span></p>\n\n<p><span style="font-family:'Verdana'\,'sans-serif'\;">Registration Required. </span></p>\n\n<p><strong><span style="font-family:'Verdana'\,'sans-serif'\;">LEARN TO RUN</span></strong></p>\n\n<p><span style="font-family:'Verdana'\,'sans-serif'\;">Over the course of 8 weeks\, participants in the Learn to Run group will progress from non-runners to being able to run for 20 minutes without stopping. This program is designed to assist and to encourage individuals interested in the sport of running to learn safe and effective running habits with the goal of gradually improving distance and pace.&nbsp\;Runners will be coached by Lori Cassia-Decker\, who brings over 35 years of experience in the fitness industry.&nbsp\;She is also a triathlete\, marathon runner and cyclist.&nbsp\;</span></p>\n\n<p><span style="font-family:'Verdana'\,'sans-serif'\;">The Learn to Run sessions take place from 6:00-7:00 pm on Tuesdays at the outdoor track at Arthur S. May School\, located at 601 Dutchess Turnpike.&nbsp\;</span></p>\n\n<p><strong><span style="font-family:'Verdana'\,'sans-serif'\;">PLEASE NOTE:</span></strong><span style="font-family:'Verdana'\,'sans-serif'\;"> The program is limited to 60 participants\; only those who have registered can take part &ndash\; no exceptions! The program welcomes persons of all ages.&nbsp\;Parent or Guardian must sign waiver on behalf of minor child.&nbsp\;</span></p>\n\n<p><span style="font-family:'Verdana'\,'sans-serif'\;">Questions? Call 845-454-1700 ext. 1007. All participants must sign a waiver of liability form.</span></p>\n\n<p><span style="font-family:'Verdana'\,'sans-serif'\;">Learn To Run is sponsored by: </span><span style="color:blue\;"><span style="font-family:calibri\,sans-serif\;"><span style="font-size:11.0pt\;"><a href="http://www.moriartypt.com/" target="_blank"><strong><span style="background:white\;text-decoration-line:none\;"><span style="color:blue\;"><span style="font-family:verdana\,sans-serif\;"><span style="font-size:10pt\;">Moriarty Physical Therapy</span></span></span></span></strong></a></span></span></span><span style="background:white\;"><span style="color:#333333\;"><span style="font-family:verdana\,sans-serif\;"><span style="font-size:10.0pt\;">\, </span></span></span></span><strong><span style="background:white\;"><span style="color:blue\;"><span style="font-family:verdana\,sans-serif\;"><span style="font-size:10.0pt\;"><a href="http://www.fleetfeetpoughkeepsie.com/" target="_blank"><span style="color:blue\;">Fleet Feet of Poughkeepsie</span></a></span></span></span></span></strong><span style="background:white\;"><span style="color:#333333\;"><span style="font-family:verdana\,sans-serif\;"><span style="font-size:10.0pt\;">\, </span></span></span></span><span style="background: white\;"><span style="font-family: verdana\, sans-serif\;"><span style="font-size: 10pt\;"><a href="http://concierge.lifemark.com/WilliamFrancis" style="color: blue\; font-weight: bold\;" target="_blank">Fortress Financial Advisory\, LLC</a>\,&nbsp\;</span></span></span><strong><span style="background:white\;"><span style="font-family:verdana\,sans-serif\;"><span style="font-size:10.0pt\;"><a href="http://www.healthquest.org/" target="_blank"><span style="color:#0000FF\;">Health Quest</span></a></span></span><span style="color:blue\;"><span style="font-family:verdana\,sans-serif\;"><span style="font-size:10.0pt\;"><span style="color:blue\;">&nbsp\;</span></span></span></span></span></strong><span style="background:white\;"><span style="font-family:verdana\,sans-serif\;"><span style="font-size:10.0pt\;">and <strong><a href="http://www.gormansgarage.com" target="_blank"><span style="color:#0000FF\;">Gorman&#39\;s Garage\, Inc.</span></a></strong></span></span></span></p>\n
LOCATION:Arthur S. May School\, 601 Dutchess Turnpike\, Poughkeepsie\, NY 12601
UID:e.2770.10477134
SEQUENCE:3
DTSTAMP:20260426T034041Z
URL:http://dutchesscountyregional.smartcms.site/events/details/learn-to-run-program-10477134
END:VEVENT

END:VCALENDAR
