BEGIN:VCALENDAR
VERSION:2.0
PRODID:-//ChamberMaster//Event Calendar 2.0//EN
METHOD:PUBLISH
X-PUBLISHED-TTL:P3D
REFRESH-INTERVAL:P3D
CALSCALE:GREGORIAN
BEGIN:VEVENT
DTSTART:20190518T000000Z
DTEND:20190518T030000Z
X-MICROSOFT-CDO-ALLDAYEVENT:FALSE
SUMMARY:Lil Baby
DESCRIPTION:"Lil baby and Friends Live in Concert!"
X-ALT-DESC;FMTTYPE=text/html:&quot\;Lil baby and Friends Live in Concert!&quot\;
LOCATION:Mid-Hudson Civic Center 14 Civic Center Plaza Poughkeepsie\, NY 12601
UID:e.2770.10480710
SEQUENCE:3
DTSTAMP:20260423T034914Z
URL:http://dutchesscountyregional.smartcms.site/events/details/lil-baby-10480710
END:VEVENT

END:VCALENDAR
