BEGIN:VCALENDAR
VERSION:2.0
PRODID:-//ChamberMaster//Event Calendar 2.0//EN
METHOD:PUBLISH
X-PUBLISHED-TTL:P3D
REFRESH-INTERVAL:P3D
CALSCALE:GREGORIAN
BEGIN:VEVENT
DTSTART:20200717T230000Z
DTEND:20200718T020000Z
X-MICROSOFT-CDO-ALLDAYEVENT:FALSE
SUMMARY:Live Music with Hurley Mountain Highway
DESCRIPTION:HURLEY MOUNTAIN HIGHWAY is a four-piece acoustic-electric group playing the finest '60s and '70s (and beyond) songs around. It's "Feel-Good Music"\, because we guarantee you'll feel-good when you hear the songs we play...and you just might be caught dancing\, laughing\, smiling\, and even singing along to them\, like you did back when you were a teen!\n\nCome join us for our debut at LeChambord at Curry Estate in the outdoor Pavillion!  \n\n \n\nCash Bar and Food will be available to purchase.  \n\n \n\n$10 Admission in advance or at the door
X-ALT-DESC;FMTTYPE=text/html:<p style="text-align:center"><strong>HURLEY MOUNTAIN HIGHWAY</strong>&nbsp\;is a four-piece acoustic-electric group playing the finest &#39\;60s and &#39\;70s (and beyond) songs around. It&#39\;s &quot\;Feel-Good Music&quot\;\, because we guarantee you&#39\;ll feel-good when you hear the songs we play...and you just might be caught dancing\, laughing\, smiling\, and even singing along to them\, like you did back when you were a teen!</p>\n\n<p style="text-align:center">Come join us for our debut at LeChambord at Curry Estate in the outdoor Pavillion! &nbsp\;</p>\n\n<p style="text-align:center">&nbsp\;</p>\n\n<p style="text-align:center">Cash Bar and Food will be available to purchase. &nbsp\;</p>\n\n<p style="text-align:center">&nbsp\;</p>\n\n<p style="text-align:center">$10 Admission in advance or at the door</p>\n
LOCATION:Le Chambord at Curry Estate 2737 Rt. 52 Hopewell Junction\, NY
UID:e.2770.10484415
SEQUENCE:3
DTSTAMP:20260422T020104Z
URL:http://dutchesscountyregional.smartcms.site/events/details/live-music-with-hurley-mountain-highway-10484415
END:VEVENT

END:VCALENDAR
