BEGIN:VCALENDAR
VERSION:2.0
PRODID:-//ChamberMaster//Event Calendar 2.0//EN
METHOD:PUBLISH
X-PUBLISHED-TTL:P3D
REFRESH-INTERVAL:P3D
CALSCALE:GREGORIAN
BEGIN:VEVENT
DTSTART:20200719T160000Z
DTEND:20200719T180000Z
X-MICROSOFT-CDO-ALLDAYEVENT:FALSE
SUMMARY:LIVE VIRTUAL EVENT TO HONOR COVID HEALTHCARE HEROES
DESCRIPTION:LIVE VIRTUAL EVENT\n\nTO HONOR\n\nCOVID HEALTHCARE HEROES\n\n\nPoughkeepsie\, NY   The Dutchess County Medical Society along with invited guests Dutchess County Executive Marc Molinaro and NYS Senator Sue Serino will be hosting an event to recognize Covid Healthcare Heroes from our local community for their selfless work to save lives. Dr. Manoj T. Abraham\, President of the Dutchess County Medical Society\, announced the six Honorees.  They are from Nuvance Health's Vassar Brothers Medical Center nominated by Joseph J. Mullany\, President:  Denise Quirk-Hall NP\, Pediatric Nurse Practitioner and Dr. Timothy Collins\, DO\, Pulmonary Critical Care Specialist.  From MidHudson Regional Hospital nominated by J. Keith Festa\, MD\, Associate Director of Medical Affairs:  Dr. Daniela Stokes\, MD\, an Infectious Disease Specialist\; Dr. Maqbool Murtuza\, MD\, Pulmonary Critical Care Specialist\; and Dr. Zubair Khan\, MD\, Pulmonary Critical Care Specialist.  In addition\, Elaine Suderio-Tirone\, DNP\, FNP\, Family Nurse Practitioner.   \n\n\n\nThere will also be a panel discussion on Lyme disease treatment and prevention featuring experts from our local area including Dr. Stokes\; Dr. Joshua Ginsberg\, President of Cary Institute of Ecosystem Studies\; Dr Richard Horowitz of Hudson Valley Healing Arts Center\; and Senator Serino. The event will be moderated by Dr. Abraham.\n\n\n\nThis will be an outdoor event by RSVP only to facilitate current social distancing regulations\, and will also be live streamed at https://www.facebook.com/Dutchess-County-Medical-Society-135237919923294/live_videos/. The event will be held on Sunday\, July 19th from 11 am - 2 pm  (backup date Saturday\, August 29). The program will start at noon.\n\n\n\nThe Dutchess County Medical Society promotes the highest standards of trust\, respect and excellence in the medical profession\, while representing the practice of medicine and the status of public health in Dutchess County. It also encourages advancements in education in the science of medicine.  The Medical Society is grateful to the following organizations for supporting this event: Keith Axelrod of United Group of Companies\; Feldman Kleidman Coffey & Sappe LLP\; Farmers & Chefs\;  Christopher James DJs\; Mid-Hudson Road Runners Club Run for Heroes Races\; K&P Facilities Maintenance Inc.\; Rethink Obesity \, Novo Nordisk \; DocFinancial medical billing services\; Serroukas & Badat CPA\; MLMIC Insurance Company\; Ulster Savings Bank and Ulster Payroll Services.\nAgenda\n\nCovid Healthcare Heroes Recognition followed by Lyme Disease Panel\n\n \n\n12:00 Welcome Remarks - Manoj Abraham\, MD / President\, Dutchess County Medical Society\n\n12:05 Comments - Marcus Molinaro / Dutchess County Executive\n\n12:15 Comments - Sue Serino / New York State Senator\n\n12:25 Introduction Nuvance Honorees Denise Quirk-Hall NP and Timothy Collins\, DO by William Begg\, MD / Vice President of Medical Affairs\, Vassar Brothers Medical Center\n\n12:40 Introduction Honoree Elaine Suderio-Tirone\, FNP by Manoj Abraham\, MD / President\, Dutchess County Medical Society\n\n12:45 Introduction Westchester Medical Center Honorees Daniela Stokes\, MD\; Maqbool Murtuza\, MD\; and Zubair Khan\, MD by Keith Festa\, MD / Associate Director of Medical Affairs\, MidHudson Regional Hospital\n\n1:00 Recognition of Event Sponsors by Manoj Abraham\, MD / President\, Dutchess County Medical Society\n\n1:10 Lyme Disease Prevention and Treatment Panel\, moderated by Manoj Abraham\, MD / President\, Dutchess County Medical Society\n\nPanelists:  Daniela Stokes\, MD\, an Infectious Disease Specialist\; Joshua Ginsberg\, PhD\, President of Cary Institute of Ecosystem Studies\; Richard Horowitz\, MD of Hudson Valley Healing Arts Center\; and New York State Senator Sue Serino\n\n1:30 Program Concludes\n\n2:00 Event Ends\n\n \n\n\n\n\n\nFor more information\, contact the Dutchess County Medical Society at 845-452-2140\, Email brodgers@dcms.org
X-ALT-DESC;FMTTYPE=text/html:<h1><strong>LIVE VIRTUAL EVENT<br />\nTO HONOR<br />\nCOVID HEALTHCARE HEROES</strong></h1>\n<br />\nPoughkeepsie\, NY &ndash\; The Dutchess County Medical Society along with invited guests Dutchess County Executive Marc Molinaro and NYS Senator Sue Serino will be hosting an event to recognize Covid Healthcare Heroes from our local community for their selfless work to save lives. Dr. Manoj T. Abraham\, President of the Dutchess County Medical Society\, announced the six Honorees.&nbsp\; They are from Nuvance Health&rsquo\;s Vassar Brothers Medical Center nominated by Joseph J. Mullany\, President:&nbsp\; Denise Quirk-Hall NP\, Pediatric Nurse Practitioner and Dr. Timothy Collins\, DO\, Pulmonary Critical Care Specialist.&nbsp\; From MidHudson Regional Hospital nominated by J. Keith Festa\, MD\, Associate Director of Medical Affairs:&nbsp\; Dr. Daniela Stokes\, MD\, an Infectious Disease Specialist\; Dr. Maqbool Murtuza\, MD\, Pulmonary Critical Care Specialist\; and Dr. Zubair Khan\, MD\, Pulmonary Critical Care Specialist.&nbsp\; In addition\, Elaine Suderio-Tirone\, DNP\, FNP\, Family Nurse Practitioner.&nbsp\; &nbsp\;<br />\n<br />\nThere will also be a panel discussion on Lyme disease treatment and prevention featuring experts from our local area including Dr. Stokes\; Dr. Joshua Ginsberg\, President of Cary Institute of Ecosystem Studies\; Dr Richard Horowitz of Hudson Valley Healing Arts Center\; and Senator Serino. The event will be moderated by Dr. Abraham.<br />\n<br />\nThis will be an outdoor event by RSVP only to facilitate current social distancing regulations\, and will also be live streamed at <a href="https://www.facebook.com/Dutchess-County-Medical-Society-135237919923294/live_videos/"><strong>https://www.facebook.com/Dutchess-County-Medical-Society-135237919923294/live_videos/</strong></a>. The event will be held on Sunday\, July 19th from 11 am - 2 pm&nbsp\; (backup date Saturday\, August 29). The program will start at noon.<br />\n<br />\nThe Dutchess County Medical Society promotes the highest standards of trust\, respect and excellence in the medical profession\, while representing the practice of medicine and the status of public health in Dutchess County. It also encourages advancements in education in the science of medicine.&nbsp\; The Medical Society is grateful to the following organizations for supporting this event: Keith Axelrod of United Group of Companies\; Feldman Kleidman Coffey &amp\; Sappe LLP\; Farmers &amp\; Chefs\;&nbsp\; Christopher James DJs\; Mid-Hudson Road Runners Club Run for Heroes Races\; K&amp\;P Facilities Maintenance Inc.\; Rethink Obesity&reg\;\, Novo Nordisk&reg\;\; DocFinancial medical billing services\; Serroukas &amp\; Badat CPA\; MLMIC Insurance Company\; Ulster Savings Bank and Ulster Payroll Services.\n<h2 style="text-align:center"><strong>Agenda</strong></h2>\n\n<h3 style="text-align:center"><strong>Covid Healthcare Heroes Recognition followed by Lyme Disease Panel</strong></h3>\n\n<div style="text-align:center">&nbsp\;</div>\n\n<h4>12:00 Welcome Remarks - Manoj Abraham\, MD / President\, Dutchess County Medical Society</h4>\n\n<h4>12:05 Comments - Marcus Molinaro / Dutchess County Executive</h4>\n\n<h4>12:15 Comments - Sue Serino / New York State Senator</h4>\n\n<h4>12:25 Introduction Nuvance Honorees Denise Quirk-Hall NP and Timothy Collins\, DO by William Begg\, MD / Vice President of Medical Affairs\, Vassar Brothers Medical Center</h4>\n\n<h4>12:40 Introduction Honoree Elaine Suderio-Tirone\, FNP by Manoj Abraham\, MD / President\, Dutchess County Medical Society</h4>\n\n<h4>12:45 Introduction Westchester Medical Center Honorees Daniela Stokes\, MD\; Maqbool Murtuza\, MD\; and Zubair Khan\, MD by Keith Festa\, MD / Associate Director of Medical Affairs\, MidHudson Regional Hospital</h4>\n\n<h4>1:00 Recognition of Event Sponsors by Manoj Abraham\, MD / President\, Dutchess County Medical Society</h4>\n\n<h4>1:10 Lyme Disease Prevention and Treatment Panel\, moderated by Manoj Abraham\, MD / President\, Dutchess County Medical Society</h4>\n\n<h4>Panelists:&nbsp\; Daniela Stokes\, MD\, an Infectious Disease Specialist\; Joshua Ginsberg\, PhD\, President of Cary Institute of Ecosystem Studies\; Richard Horowitz\, MD of Hudson Valley Healing Arts Center\; and New York State Senator Sue Serino</h4>\n\n<h4>1:30 Program Concludes</h4>\n\n<h4>2:00 Event Ends</h4>\n\n<div style="text-align:center">&nbsp\;</div>\n\n<div><br />\n<br />\nFor more information\, contact the Dutchess County Medical Society at 845-452-2140\, Email <a href="mailto:brodgers@dcms.org">brodgers@dcms.org</a></div>\n
LOCATION:Live Streamed and Available To View Anytime after July event concludes: https://www.facebook.com/Dutchess-County-Medical-Society-135237919923294/live_videos/
UID:e.2770.10484173
SEQUENCE:3
DTSTAMP:20260422T020142Z
URL:http://dutchesscountyregional.smartcms.site/events/details/live-virtual-event-to-honor-covid-healthcare-heroes-10484173
END:VEVENT

END:VCALENDAR
