BEGIN:VCALENDAR
VERSION:2.0
PRODID:-//ChamberMaster//Event Calendar 2.0//EN
METHOD:PUBLISH
X-PUBLISHED-TTL:P3D
REFRESH-INTERVAL:P3D
CALSCALE:GREGORIAN
BEGIN:VEVENT
DTSTART:20190310T000000Z
DTEND:20190310T020000Z
X-MICROSOFT-CDO-ALLDAYEVENT:FALSE
SUMMARY:Local High School's "First Look" Onstage Event
DESCRIPTION:Please join us for this media event\, photo opportunity and interviews will be available FIRST LOOK AT SPACKENKILL HIGH SCHOOL MARCH 9\, 2019 March 2019- (Poughkeepsie\, NY) - First Look\, a family friendly musical show co-sponsored by the drama organizations of Spackenkill and Beacon High Schools' Spack Onstage and the The Beacon Players\, proudly presents a night of theatre\, music and a wonderful sneak peek of upcoming performances. Admission is free and refreshments will be served. Additionally\, tickets to every group's performances will be available for sale. Performances will include those from Spackenkill High School's Pippin\, Beacon High School's Beauty and the Beast\, Arlington High School's Hello\, Dolly!\, Beacon Performing Arts Center's Willy Wonka Kids\, West Side Theatrix's Hairspray\, and Pawling High School's Freaky Friday. The performances take place on Saturday\, March 9 at 7:00 pm and will be held at Richard D. Woolley Auditorium at Spackenkill High School\, 112 Spackenkill Road in Poughkeepsie\, NY. Spack Onstage and the Beacon Players present FIRST LOOK\, Don't miss it
X-ALT-DESC;FMTTYPE=text/html:Please join us for this media event\, photo opportunity and interviews will be available FIRST LOOK AT SPACKENKILL HIGH SCHOOL MARCH 9\, 2019 March 2019- (Poughkeepsie\, NY) - First Look\, a family friendly musical show co-sponsored by the drama organizations of Spackenkill and Beacon High Schools&rsquo\; Spack Onstage and the The Beacon Players\, proudly presents a night of theatre\, music and a wonderful sneak peek of upcoming performances. Admission is free and refreshments will be served. Additionally\, tickets to every group&rsquo\;s performances will be available for sale. Performances will include those from Spackenkill High School&rsquo\;s Pippin\, Beacon High School&rsquo\;s Beauty and the Beast\, Arlington High School&rsquo\;s Hello\, Dolly!\, Beacon Performing Arts Center&rsquo\;s Willy Wonka Kids\, West Side Theatrix&rsquo\;s Hairspray\, and Pawling High School&rsquo\;s Freaky Friday. The performances take place on Saturday\, March 9 at 7:00 pm and will be held at Richard D. Woolley Auditorium at Spackenkill High School\, 112 Spackenkill Road in Poughkeepsie\, NY. Spack Onstage and the Beacon Players present FIRST LOOK\, Don&rsquo\;t miss it&hellip\;
LOCATION:Richard D. Woolley Auditorium at Spackenkill High School\, 112 Spackenkill Road in Poughkeepsie\, NY.
UID:e.2770.10480535
SEQUENCE:3
DTSTAMP:20260423T071949Z
URL:http://dutchesscountyregional.smartcms.site/events/details/local-high-school-s-first-look-onstage-event-10480535
END:VEVENT

END:VCALENDAR
