BEGIN:VCALENDAR
VERSION:2.0
PRODID:-//ChamberMaster//Event Calendar 2.0//EN
METHOD:PUBLISH
X-PUBLISHED-TTL:P3D
REFRESH-INTERVAL:P3D
CALSCALE:GREGORIAN
BEGIN:VEVENT
DTSTART:20191026T160000Z
DTEND:20191026T190000Z
X-MICROSOFT-CDO-ALLDAYEVENT:FALSE
SUMMARY:Lunch 4 Vets
DESCRIPTION:Join us for a luncheon honoring Tommy Zurhellen\, Professor at Marist College. He is the veteran who walked across America this past Summer. Sample 22 amazing dishes crafted by Chef Luigi to recognize the 22 veterans who take their own life each day in America. All proceeds will be donated to MHA Dutchess County's Vet2Vet department
X-ALT-DESC;FMTTYPE=text/html:Join us for a luncheon honoring Tommy Zurhellen\, Professor at Marist College. He is the veteran who walked across America this past Summer. Sample 22 amazing dishes crafted by Chef Luigi to recognize the 22 veterans who take their own life each day in America. All proceeds will be donated to MHA Dutchess County&rsquo\;s Vet2Vet department
LOCATION:Coppola's in Hyde Park
UID:e.2770.10482506
SEQUENCE:3
DTSTAMP:20260422T172544Z
URL:http://dutchesscountyregional.smartcms.site/events/details/lunch-4-vets-10482506
END:VEVENT

END:VCALENDAR
