BEGIN:VCALENDAR
VERSION:2.0
PRODID:-//ChamberMaster//Event Calendar 2.0//EN
METHOD:PUBLISH
X-PUBLISHED-TTL:P3D
REFRESH-INTERVAL:P3D
CALSCALE:GREGORIAN
BEGIN:VEVENT
DTSTART:20190412T160000Z
DTEND:20190412T170000Z
X-MICROSOFT-CDO-ALLDAYEVENT:FALSE
SUMMARY:“Lunch and Learn” Lecture: The Fourth Trimester
DESCRIPTION:Dr. Meera Garcia\, OB/GYN\, Director of Women's Health Services at NewYork-Presbyterian Hudson Valley Hospital and with NYP Medical Group Hudson Valley\, will discuss what women can expect as they return to their pre-pregnancy state.
X-ALT-DESC;FMTTYPE=text/html:Dr. Meera Garcia\, OB/GYN\, Director of Women&rsquo\;s Health Services at NewYork-Presbyterian Hudson Valley Hospital and with NYP Medical Group Hudson Valley\, will discuss what women can expect as they return to their pre-pregnancy state.
LOCATION:NewYork-Presbyterian Hudson Valley Hospital 1980 Crompond Road Cortlandt Manor\, NY Ground Floor Conference Room
UID:e.2770.10480592
SEQUENCE:3
DTSTAMP:20260423T055104Z
URL:http://dutchesscountyregional.smartcms.site/events/details/lunch-and-learn-lecture-the-fourth-trimester-10480592
END:VEVENT

END:VCALENDAR
