BEGIN:VCALENDAR
VERSION:2.0
PRODID:-//ChamberMaster//Event Calendar 2.0//EN
METHOD:PUBLISH
X-PUBLISHED-TTL:P3D
REFRESH-INTERVAL:P3D
CALSCALE:GREGORIAN
BEGIN:VEVENT
DTSTART:20200203T230000Z
DTEND:20200204T020000Z
X-MICROSOFT-CDO-ALLDAYEVENT:FALSE
SUMMARY:Make Your Customers Fall in Love with Your Products
DESCRIPTION:Building relationships is key to your products selling out.  Take customers from "interested" to "take my money".  Have the confidence and systems set in place to rock it in 2020!\n\n\n\nIn this workshop\, attendees will learn:\n\n\n	How product marketing is different from services marketing\n	What shoppers really want to see when they meet your products\n	How to build a marketing system that has shoppers throwing money at you\n	Finish with a complete marketing plan that woos your customers\n\n\n\n\n3-part series\, Must attend all sessions on February 3rd\, 10th\, and 24th
X-ALT-DESC;FMTTYPE=text/html:<p><span style="font-size:16px">Building relationships is key to your products selling out.&nbsp\; Take customers from &ldquo\;interested&rdquo\; to &ldquo\;take my money&rdquo\;.&nbsp\; Have the confidence and systems set in place to rock it in 2020!<br />\n<br />\nIn this workshop\, attendees will learn:</span></p>\n\n<ul>\n	<li><span style="font-size:16px">How product marketing is different from services marketing</span></li>\n	<li><span style="font-size:16px">What shoppers really want to see when they meet your products</span></li>\n	<li><span style="font-size:16px"><span style="font-size:16px">How to build a marketing system that has shoppers throwing money at you</span></span></li>\n	<li><span style="font-size:16px"><span style="font-size:16px"><span style="font-size:16px">Finish with a complete marketing plan that woos your customers</span></span></span></li>\n</ul>\n\n<p><br />\n<span style="font-size:16px"><span style="color:#d00c3b"><strong>3-part series\, Must attend all sessions on February 3rd\, 10th\, and 24th</strong></span></span></p>\n
LOCATION:The Accelerator 4 Crotty Lane\, Suite 100 New Windsor\, NY 12553
UID:e.2770.10482494
SEQUENCE:3
DTSTAMP:20260422T121443Z
URL:http://dutchesscountyregional.smartcms.site/events/details/make-your-customers-fall-in-love-with-your-products-10482494
END:VEVENT

END:VCALENDAR
