BEGIN:VCALENDAR
VERSION:2.0
PRODID:-//ChamberMaster//Event Calendar 2.0//EN
METHOD:PUBLISH
X-PUBLISHED-TTL:P3D
REFRESH-INTERVAL:P3D
CALSCALE:GREGORIAN
BEGIN:VEVENT
DTSTART:20200609T140000Z
DTEND:20200609T153000Z
X-MICROSOFT-CDO-ALLDAYEVENT:FALSE
SUMMARY:Making the Marketing Pivot
DESCRIPTION:In this webinar\, learn how to stay relevant to your customers & attract new ones in the COVID-19 world!\n\n\n\nTopics:\n\n\n	\n	How to rethink your products & services for a socially-distanced landscape\n	\n	\n	Reassessing who your target market is now\n	\n	\n	How to reach people when you can't reach them in person\n	\n	\n	How to best take advantage of online marketing platforms
X-ALT-DESC;FMTTYPE=text/html:<p><span style="font-size:16px">In this webinar\, learn how to stay relevant to your customers &amp\; attract new ones in the COVID-19 world!<br />\n<br />\n<strong>Topics:</strong></span></p>\n\n<ul>\n	<li>\n	<p><span style="font-size:16px">How to rethink your products &amp\; services for a socially-distanced landscape</span></p>\n	</li>\n	<li>\n	<p><span style="font-size:16px">Reassessing who your target market is now</span></p>\n	</li>\n	<li>\n	<p><span style="font-size:16px">How to reach people when you can&rsquo\;t reach them in person</span></p>\n	</li>\n	<li>\n	<p><span style="font-size:16px">How to best take advantage of online marketing platforms</span></p>\n	</li>\n</ul>\n
LOCATION:Webinar
UID:e.2770.10483293
SEQUENCE:3
DTSTAMP:20260422T034853Z
URL:http://dutchesscountyregional.smartcms.site/events/details/making-the-marketing-pivot-10483293
END:VEVENT

END:VCALENDAR
