BEGIN:VCALENDAR
VERSION:2.0
PRODID:-//ChamberMaster//Event Calendar 2.0//EN
METHOD:PUBLISH
X-PUBLISHED-TTL:P3D
REFRESH-INTERVAL:P3D
CALSCALE:GREGORIAN
BEGIN:VEVENT
DTSTART:20190320T113000Z
DTEND:20190320T130000Z
X-MICROSOFT-CDO-ALLDAYEVENT:FALSE
SUMMARY:March Contact Breakfast
DESCRIPTION:***Please note if you try to register after 5:00 PM on Tuesday\, March 19th you will NOT be on our registration list. Please report to the UNPAID Table when you arrive.\n\n\n\n\n\nMonthly Contact Breakfast featuring Dutchess County Executive Marcus Molinaro\, who will provide a keynote on the economic initiatives in the county.\n\n\n\nAs you all know\, there are many people in need of our assistance. The Chamber's Ambassador committee has partnered with our Workforce Development Center to collect canned and dry goods at our Contact Breakfast. Your donations are greatly appreciated.\n\n\n\nSponsored by: Marshall & Sterling\n\nNonprofits: Hudson River Housing\, Special Olympics\, Stringendo\, The Chamber Foundation\, Inc.
X-ALT-DESC;FMTTYPE=text/html:<p><span style="text-align: left\; color: rgb(255\, 0\, 0)\; text-transform: none\; text-indent: 0px\; letter-spacing: normal\; font-size: 18px\; font-style: normal\; font-variant: normal\; font-weight: 400\; text-decoration: none\; word-spacing: 0px\; white-space: normal\; orphans: 2\; background-color: transparent\; -webkit-text-stroke-width: 0px\;"><span style="font-family: times new roman\;"><strong>***<span style="background: rgb(255\, 255\, 255)\;">Please note if&nbsp\;you try to register after 5:00 PM on Tuesday\, March 19th&nbsp\;you will NOT be on our registration list. Please report to the UNPAID Table when you arrive.</span></strong></span></span><br />\n<br />\n<br />\n<span style="font-size: 14px\;"><span style="font-family: arial\;">Monthly Contact Breakfast featuring Dutchess County Executive&nbsp\;Marcus Molinaro\, who will provide a keynote on the economic initiatives in the county.<br />\n<br />\n<strong style="color: rgb(51\, 51\, 51)\; font-family: sans-serif\, Arial\, Verdana\, &quot\;Trebuchet MS&quot\;\; font-size: 13px\; background-color: rgb(255\, 255\, 255)\;">As you all know\, there are many people in need of our assistance. The Chamber&#39\;s Ambassador committee has partnered with our Workforce Development Center to collect canned and dry goods at our Contact Breakfast. Your donations are greatly appreciated.</strong><br />\n<br />\n<strong style="color: rgb(51\, 51\, 51)\; font-family: sans-serif\, Arial\, Verdana\, &quot\;Trebuchet MS&quot\;\; font-size: 13px\; background-color: rgb(255\, 255\, 255)\;"><span style="font-size: 16px\;">Sponsored by: <a href="https://www.marshallsterling.com/" target="_blank"><span style="color: rgb(0\, 0\, 255)\;">Marshall &amp\; Sterling</span></a></span><br />\nNonprofits:&nbsp\;Hudson River Housing\, Special Olympics\, </strong></span></span><strong>Stringendo\, </strong><span style="font-size: 14px\;"><span style="font-family: arial\;"><strong style="color: rgb(51\, 51\, 51)\; font-family: sans-serif\, Arial\, Verdana\, &quot\;Trebuchet MS&quot\;\; font-size: 13px\; background-color: rgb(255\, 255\, 255)\;">The Chamber Foundation\, Inc.</strong></span></span></p>\n
LOCATION:The Poughkeepsie Grand Hotel & Conference Center 40 Civic Center Plaza Poughkeepsie\, NY 12601
UID:e.2770.10479781
SEQUENCE:3
DTSTAMP:20260423T071950Z
URL:http://dutchesscountyregional.smartcms.site/events/details/march-contact-breakfast-10479781
END:VEVENT

END:VCALENDAR
