BEGIN:VCALENDAR
VERSION:2.0
PRODID:-//ChamberMaster//Event Calendar 2.0//EN
METHOD:PUBLISH
X-PUBLISHED-TTL:P3D
REFRESH-INTERVAL:P3D
CALSCALE:GREGORIAN
BEGIN:VEVENT
DTSTART:20210317T120000Z
DTEND:20210317T130000Z
X-MICROSOFT-CDO-ALLDAYEVENT:FALSE
SUMMARY:March Contact Breakfast
DESCRIPTION:This event will be held on Zoom and In Person.\n\nRegistration is required as space is limited. \n\n\n\nFor Zoom Registration: Please Click Here\n\n*For In Person Registration: Please Click the Blue Button Above.\n\n\n\n\n\nMonthly Contact Breakfast featuring a presentation from Dr. Eric Rosser\, Superintendent of the Poughkeepsie City School District. Dr. Rosser will discuss positive changes\, advancements and plans for the future of the district.\n\n\n\nThe Chamber's March Breakfast will be held with as many as 50 people safely attending the event live at The Poughkeepsie Grand Hotel and Conference Center\, and others able to view the event on Zoom and Facebook.\n\n\n\nRegistration to attend live is available to Chamber members only\, first come first served\, and a light plated breakfast will be served. Payment of $25 per person must be made in advance\, and walk-ins will not be able to be accommodated.\n\n\n\nFor questions\, please email Chelsea@dcrcoc.org or you may leave a message at 845-454-1700 ext. 1006.\n\n\nThank you to our sponsors: Chazen\,  A LaBella Company and DocuWare
X-ALT-DESC;FMTTYPE=text/html:<p><br />\n<span style="font-family:times new roman\;"><b><span style="font-size: 13.5pt\; color: black\; background-image: initial\; background-position: initial\; background-size: initial\; background-repeat: initial\; background-attachment: initial\; background-origin: initial\; background-clip: initial\;">This event will be held on Zoom and In Person.<br />\nRegistration is required as space is limited.&nbsp\;</span></b></span><br />\n<br />\n<strong><span style="background:yellow\;"><span style="color:black\;"><span style="font-family:times new roman\,serif\;"><span style="font-size:13.5pt\;">For Zoom Registration: Please Click</span></span></span></span></strong>&nbsp\;<strong><span style="background:yellow\;"><span style="color:#333333\;"><span style="font-family:times new roman\,serif\;"><span style="font-size:13.5pt\;"><a href="https://dcrcoc-org.zoom.us/webinar/register/WN_k6SXozY9Q9uMg-I6pQsqow" target="_blank"><span style="color:blue\;">Here</span></a></span></span></span></span></strong><br />\n<strong><span style="background:yellow\;"><span style="font-family:times new roman\,serif\;"><span style="font-size:13.5pt\;"><span style="color:black\;">*For In Person Registration: Please Click the Blue Button Above.</span></span></span></span></strong><br />\n<br />\n<br />\n<span style="color:#000000\;"><span style="font-size:18px\;"><span style="font-family:times new roman\;">Monthly Contact Breakfast featuring a presentation&nbsp\;from Dr. Eric Rosser\, Superintendent of the Poughkeepsie City School District. Dr. Rosser will discuss positive changes\, advancements and plans for the future of the district.</span></span></span><br />\n<br />\n<span style="font-family:times new roman\;"><em><span style="font-size: 11pt\; color: black\; background-image: initial\; background-position: initial\; background-size: initial\; background-repeat: initial\; background-attachment: initial\; background-origin: initial\; background-clip: initial\;">The Chamber&#39\;s March Breakfast will be held with as many as 50 people safely attending the event live at The Poughkeepsie Grand Hotel and Conference Center\, and others able to view the event on Zoom and Facebook.</span></em><br />\n<br />\n<i><span style="font-size: 11pt\; color: black\; background-image: initial\; background-position: initial\; background-size: initial\; background-repeat: initial\; background-attachment: initial\; background-origin: initial\; background-clip: initial\;"><em>Registration to attend live is available to&nbsp\;</em><strong>Chamber members only</strong><em>\, first come first served\, and a light plated breakfast will be served. Payment of $25 per person must be made in advance\, and walk-ins will not be able to be accommodated.</em></span></i><br />\n<br />\n<span style="font-size: 11pt\; color: black\; background-image: initial\; background-position: initial\; background-size: initial\; background-repeat: initial\; background-attachment: initial\; background-origin: initial\; background-clip: initial\;">For questions\, please email&nbsp\;</span><span style="font-size: 11pt\; background-image: initial\; background-position: initial\; background-size: initial\; background-repeat: initial\; background-attachment: initial\; background-origin: initial\; background-clip: initial\;"><a href="mailto:Chelsea@dcrcoc.org"><span style="color:#0000FF\;">Chelsea@dcrcoc.org</span></a></span><span style="font-size: 11pt\; color: black\; background-image: initial\; background-position: initial\; background-size: initial\; background-repeat: initial\; background-attachment: initial\; background-origin: initial\; background-clip: initial\;">&nbsp\;or you may leave a message at 845-454-1700 ext. 1006.</span></span></p>\n<br style="box-sizing: border-box\; color: rgb(35\, 35\, 51)\; font-family: Lato\, Helvetica\, Arial\; font-size: 14px\;" />\n<span style="color:#000000\;"><span style="font-size:18px\;"><span style="font-family:times new roman\;">Thank you to our sponsors: </span></span></span><span style="font-size:18px\;"><span style="font-family:times new roman\;"><strong><a href="https://www.chazencompanies.com/" target="_blank"><span style="color:#0000FF\;">Chazen\,&nbsp\; A LaBella Company</span></a></strong></span></span><span style="color:#000000\;"><span style="font-size:18px\;"><span style="font-family:times new roman\;">&nbsp\;and&nbsp\;</span></span></span><strong><span style="font-size:18px\;"><span style="font-family:times new roman\;"><a href="https://start.docuware.com/" target="_blank"><span style="color:#0000FF\;">DocuWare</span></a></span></span></strong>
LOCATION:
UID:e.2770.10484488
SEQUENCE:3
DTSTAMP:20260421T132033Z
URL:http://dutchesscountyregional.smartcms.site/events/details/march-contact-breakfast-10484488
END:VEVENT

END:VCALENDAR
