BEGIN:VCALENDAR
VERSION:2.0
PRODID:-//ChamberMaster//Event Calendar 2.0//EN
METHOD:PUBLISH
X-PUBLISHED-TTL:P3D
REFRESH-INTERVAL:P3D
CALSCALE:GREGORIAN
BEGIN:VEVENT
DTSTART:20210303T233000Z
DTEND:20210304T023000Z
X-MICROSOFT-CDO-ALLDAYEVENT:FALSE
SUMMARY:Marist College SHRM Essentials of Human Resources for small businesses Wednesday evening class
DESCRIPTION:Designed as a thorough introduction to HR basics\, the SHRM Essentials of Human Resources course provides a solid foundation in human resources concepts and is effective training across multiple job responsibilities and career paths.\n\n\n	New and junior HR practitioners who need to increase their knowledge base\n	Small business owners or office managers who perform the HR function for their company and business managers who want to learn basic HR best practices to avoid costly litigation\n	New or experienced managers interested in learning more about employee management skills\n	Representatives selling or supporting HR systems and services\n	International HR personnel wishing to increase their knowledge of U.S. HR practices\n	Job seekers who are investigating HR as a new career option or want to enhance their resume with HR skills
X-ALT-DESC;FMTTYPE=text/html:<p>Designed as a thorough introduction to HR basics\, the SHRM Essentials of Human Resources course provides a solid foundation in human resources concepts and is effective training across multiple job responsibilities and career paths.</p>\n\n<ul>\n	<li><strong>New and junior HR practitioners&nbsp\;</strong>who need to increase their knowledge base</li>\n	<li><strong>Small business owners or office managers</strong>&nbsp\;who perform the HR function for their company and business managers who want to learn basic HR best practices to avoid costly litigation</li>\n	<li><strong>New or experienced managers</strong>&nbsp\;interested in learning more about employee management skills</li>\n	<li><strong>Representatives selling or supporting HR&nbsp\;</strong>systems and services</li>\n	<li><strong>International HR personnel</strong>&nbsp\;wishing to increase their knowledge of U.S. HR practices</li>\n	<li><strong>Job seekers</strong>&nbsp\;who are investigating HR as a new career option or want to enhance their resume with HR skills</li>\n</ul>\n
LOCATION:Virtual Synchronous Class Online Requirements Course online platform: Webex (access included in course registration) Computer and browser compatibility: Be sure your browser is up-to-date to avoid technical difficulties. Recommended web browser: Google Chrome or Mozilla Firefox Plug-in Updates: Plug-ins may need to be updated if your access to Webex does not launch. Updates come in the form of pop-ups or alerts that suggest an update or install. Always test your access ahead of time. Use this link to test your system before using Webex for class.
UID:e.2770.10484926
SEQUENCE:3
DTSTAMP:20260421T132209Z
URL:http://dutchesscountyregional.smartcms.site/events/details/marist-college-shrm-essentials-of-human-resources-for-small-businesses-wednesday-evening-class-10484926
END:VEVENT

END:VCALENDAR
