BEGIN:VCALENDAR
VERSION:2.0
PRODID:-//ChamberMaster//Event Calendar 2.0//EN
METHOD:PUBLISH
X-PUBLISHED-TTL:P3D
REFRESH-INTERVAL:P3D
CALSCALE:GREGORIAN
BEGIN:VEVENT
DTSTART:20200505T160000Z
DTEND:20200505T173000Z
X-MICROSOFT-CDO-ALLDAYEVENT:FALSE
SUMMARY:Marketing Tools for Selling to the Government
DESCRIPTION:Connect with us to learn the tools to get contracts and promote your business!\n\n\n\nWorkshop will discuss: \n\n\n	\n	What is a Capability Statement?\n	\n	\n	Format of a Capability Statement\n	\n	\n	Content and using an Elevator Pitch\n	\n	\n	How to make a presentation\n	\n\n\nAttendees will be guided through creating a:\n\n\n	\n	Capability Statement\n	\n	\n	Presentation\n	\n	\n	Elevator Pitch
X-ALT-DESC;FMTTYPE=text/html:<p><span style="font-size:16px"><strong>Connect with us to learn the tools to get contracts and promote your business!</strong><br />\n<br />\n<strong>Workshop will discuss:&nbsp\;</strong></span></p>\n\n<ul>\n	<li>\n	<p><span style="font-size:16px">What is a Capability Statement?</span></p>\n	</li>\n	<li>\n	<p><span style="font-size:16px">Format of a Capability Statement</span></p>\n	</li>\n	<li>\n	<p><span style="font-size:16px">Content and using an Elevator Pitch</span></p>\n	</li>\n	<li>\n	<p><span style="font-size:16px">How to make a presentation</span></p>\n	</li>\n</ul>\n\n<p><span style="font-size:16px"><strong>Attendees will be guided through creating a:</strong></span></p>\n\n<ul>\n	<li>\n	<p><span style="font-size:16px">Capability Statement</span></p>\n	</li>\n	<li>\n	<p><span style="font-size:16px">Presentation</span></p>\n	</li>\n	<li>\n	<p><span style="font-size:16px">Elevator Pitch</span></p>\n	</li>\n</ul>\n
LOCATION:Online
UID:e.2770.10482667
SEQUENCE:3
DTSTAMP:20260422T053846Z
URL:http://dutchesscountyregional.smartcms.site/events/details/marketing-tools-for-selling-to-the-government-10482667
END:VEVENT

END:VCALENDAR
